Workbook

Sheet Dashboard
D1: DASHBOARD ĐÀO TẠO
D2: ='Cài đặt'!$C$7&" | "&'Cài đặt'!$C$8 -> CÔNG TY CỔ PHẦN DƯỢC PHẨM ABC | Phòng Đào tạo & Phát triển (L&D) | N2: NĂM BÁO CÁO | P2: 2026
D3: Thiết kế: Vinh Phan | vinhphan.io.vn | Building Great Teams Through Data & People | N3: ="Cập nhật: "&TEXT(TODAY(),"dd/mm/yyyy") -> Cập nhật: 20/10/2026
B6: ="CHỈ SỐ CHÍNH NĂM "&$P$2 -> CHỈ SỐ CHÍNH NĂM 2026
B7: TỔNG SỐ KHÓA HỌC | F7: TỶ LỆ THỰC HIỆN KẾ HOẠCH | J7: GIỜ ĐÀO TẠO BÌNH QUÂN / NV | N7: LƯỢT HỌC VIÊN
B8: =COUNTIFS(Data!$W$7:$W$206,$P$2,Data!$T$7:$T$206,"") -> 36 | F8: =IFERROR(COUNTIFS(Data!$W$7:$W$206,$P$2,Data!$T$7:$T$206,"",Data!$U$7:$U$206,"Đã hoàn thành")/COUNTIFS(Data!$W$7:$W$206,$P$2,Data!$F$7:$F$206,"<"&TODAY()),"-") -> 0.96666667 | J8: =IFERROR(SUMIFS(Data!$Z$7:$Z$206,Data!$W$7:$W$206,$P$2,Data!$T$7:$T$206,"")/'Cài đặt'!$C$12,0) -> 6.5317647 | N8: =SUMIFS(Data!$P$7:$P$206,Data!$W$7:$W$206,$P$2,Data!$T$7:$T$206,"") -> 722
B9: ="Đã xong "&COUNTIFS(Data!$W$7:$W$206,$P$2,Data!$T$7:$T$206,"",Data!$U$7:$U$206,"Đã hoàn thành")&" | Còn lại "&(COUNTIFS(Data!$W$7:$W$206,$P$2,Data!$T$7:$T$206,"")-COUNTIFS(Data!$W$7:$W$206,$P$2,Data!$T$7:$T$206,"",Data!$U$7:$U$206,"Đã hoàn thành"))&" | Hủy/Hoãn "&COUNTIFS(Data!$W$7:$W$206,$P$2,Data!$T$7:$T$206,"<>") -> Đã xong 29 | Còn lại 7 | Hủy/Hoãn 2 | F9: ="Hoàn thành / số khóa đã đến hạn" -> Hoàn thành / số khóa đã đến hạn | J9: ="Mục tiêu "&TEXT('Cài đặt'!$C$13,"0.0")&" giờ | đạt "&TEXT(IFERROR(SUMIFS(Data!$Z$7:$Z$206,Data!$W$7:$W$206,$P$2,Data!$T$7:$T$206,"")/'Cài đặt'!$C$12/'Cài đặt'!$C$13,0),"0%") -> Mục tiêu 16.0 giờ | đạt 41% | N9: ="Tổng "&TEXT(SUMIFS(Data!$Z$7:$Z$206,Data!$W$7:$W$206,$P$2,Data!$T$7:$T$206,""),"#,##0")&" giờ-người | "&TEXT(SUMIFS(Data!$I$7:$I$206,Data!$W$7:$W$206,$P$2,Data!$T$7:$T$206,""),"#,##0")&" giờ lớp" -> Tổng 5,552 giờ-người | 288 giờ lớp
B11: TỶ LỆ THAM DỰ | F11: ĐIỂM HÀI LÒNG TRUNG BÌNH | J11: NGÂN SÁCH ĐÃ SỬ DỤNG | N11: CHI PHÍ / GIỜ-NGƯỜI (đ)
B12: =IFERROR(SUMIFS(Data!$P$7:$P$206,Data!$W$7:$W$206,$P$2,Data!$T$7:$T$206,"",Data!$U$7:$U$206,"Đã hoàn thành")/SUMIFS(Data!$O$7:$O$206,Data!$W$7:$W$206,$P$2,Data!$T$7:$T$206,"",Data!$U$7:$U$206,"Đã hoàn thành"),"-") -> 0.91857506 | F12: =IFERROR(AVERAGEIFS(Data!$S$7:$S$206,Data!$W$7:$W$206,$P$2,Data!$T$7:$T$206,""),"-") -> 4.3034483 | J12: =IFERROR(SUMIFS(Data!$R$7:$R$206,Data!$W$7:$W$206,$P$2,Data!$T$7:$T$206,"",Data!$U$7:$U$206,"Đã hoàn thành")/IFERROR(INDEX('Cài đặt'!$C$20:$C$25,MATCH($P$2,'Cài đặt'!$B$20:$B$25,0)),0),"-") -> 0.76571429 | N12: =IFERROR(SUMIFS(Data!$R$7:$R$206,Data!$W$7:$W$206,$P$2,Data!$T$7:$T$206,"",Data!$U$7:$U$206,"Đã hoàn thành")/SUMIFS(Data!$Z$7:$Z$206,Data!$W$7:$W$206,$P$2,Data!$T$7:$T$206,"",Data!$U$7:$U$206,"Đã hoàn thành"),0) -> 48270.893
B13: ="Mục tiêu "&TEXT('Cài đặt'!$C$14,"0%")&" | tính trên khóa đã xong" -> Mục tiêu 90% | tính trên khóa đã xong | F13: ="Mục tiêu "&TEXT('Cài đặt'!$C$15,"0.0")&" / 5" -> Mục tiêu 4.2 / 5 | J13: ="Đã chi "&TEXT(SUMIFS(Data!$R$7:$R$206,Data!$W$7:$W$206,$P$2,Data!$T$7:$T$206,"",Data!$U$7:$U$206,"Đã hoàn thành")/1000000,"#,##0")&" / "&TEXT(IFERROR(INDEX('Cài đặt'!$C$20:$C$25,MATCH($P$2,'Cài đặt'!$B$20:$B$25,0)),0)/1000000,"#,##0")&" triệu đ" -> Đã chi 268 / 350 triệu đ | N13: ="Cam kết còn lại: "&TEXT((SUMIFS(Data!$R$7:$R$206,Data!$W$7:$W$206,$P$2,Data!$T$7:$T$206,"")-SUMIFS(Data!$R$7:$R$206,Data!$W$7:$W$206,$P$2,Data!$T$7:$T$206,"",Data!$U$7:$U$206,"Đã hoàn thành"))/1000000,"#,##0")&" triệu đ" -> Cam kết còn lại: 36 triệu đ
B15: KHÓA HỌC SẮP DIỄN RA (8 khóa gần nhất tính từ hôm nay)
B16: Bắt đầu | C16: Kết thúc | D16: Mã | E16: Tên khóa học | I16: Loại | J16: Giảng viên | L16: Đối tượng | M16: Hình thức | N16: Địa điểm | P16: HV KH | Q16: Còn
B17: =IF($S17="","",INDEX(Data!$E$7:$E$206,$S17)) -> 46314 | C17: =IF($S17="","",INDEX(Data!$F$7:$F$206,$S17)) -> 46316 | D17: =IF($S17="","",INDEX(Data!$B$7:$B$206,$S17)) -> DT26-031 | E17: =IF($S17="","",INDEX(Data!$C$7:$C$206,$S17)) -> Kỹ năng viết email chuyên nghiệp | I17: =IF($S17="","",INDEX(Data!$D$7:$D$206,$S17)) -> Soft Skill | J17: =IF($S17="","",INDEX(Data!$J$7:$J$206,$S17)) -> Phạm Thu Dung | L17: =IF($S17="","",INDEX(Data!$N$7:$N$206,$S17)) -> Toàn công ty | M17: =IF($S17="","",INDEX(Data!$L$7:$L$206,$S17)) -> Online | N17: =IF($S17="","",INDEX(Data!$M$7:$M$206,$S17)) -> MS Teams | P17: =IF($S17="","",INDEX(Data!$O$7:$O$206,$S17)) -> 60 | Q17: =IF($S17="","",IF(INDEX(Data!$E$7:$E$206,$S17)<=TODAY(),"Đang học",INDEX(Data!$E$7:$E$206,$S17)-TODAY()&" ngày")) -> Đang học | S17: =IFERROR(MATCH(SMALL(Data!$AA$7:$AA$206,1),Data!$AA$7:$AA$206,0),"") -> 31
B18: =IF($S18="","",INDEX(Data!$E$7:$E$206,$S18)) -> 46316 | C18: =IF($S18="","",INDEX(Data!$F$7:$F$206,$S18)) -> 46316 | D18: =IF($S18="","",INDEX(Data!$B$7:$B$206,$S18)) -> DT26-033 | E18: =IF($S18="","",INDEX(Data!$C$7:$C$206,$S18)) -> Kỹ năng phỏng vấn cho Hiring Manager | I18: =IF($S18="","",INDEX(Data!$D$7:$D$206,$S18)) -> Leadership | J18: =IF($S18="","",INDEX(Data!$J$7:$J$206,$S18)) -> Đặng Ngọc Hà | L18: =IF($S18="","",INDEX(Data!$N$7:$N$206,$S18)) -> Toàn công ty | M18: =IF($S18="","",INDEX(Data!$L$7:$L$206,$S18)) -> Offline | N18: =IF($S18="","",INDEX(Data!$M$7:$M$206,$S18)) -> Phòng họp A | P18: =IF($S18="","",INDEX(Data!$O$7:$O$206,$S18)) -> 20 | Q18: =IF($S18="","",IF(INDEX(Data!$E$7:$E$206,$S18)<=TODAY(),"Đang học",INDEX(Data!$E$7:$E$206,$S18)-TODAY()&" ngày")) -> 1 ngày | S18: =IFERROR(MATCH(SMALL(Data!$AA$7:$AA$206,2),Data!$AA$7:$AA$206,0),"") -> 33
B19: =IF($S19="","",INDEX(Data!$E$7:$E$206,$S19)) -> 46316 | C19: =IF($S19="","",INDEX(Data!$F$7:$F$206,$S19)) -> 46316 | D19: =IF($S19="","",INDEX(Data!$B$7:$B$206,$S19)) -> DT26-034 | E19: =IF($S19="","",INDEX(Data!$C$7:$C$206,$S19)) -> An toàn hóa chất phòng thí nghiệm | I19: =IF($S19="","",INDEX(Data!$D$7:$D$206,$S19)) -> Compliance | J19: =IF($S19="","",INDEX(Data!$J$7:$J$206,$S19)) -> Lê Hoàng Cường | L19: =IF($S19="","",INDEX(Data!$N$7:$N$206,$S19)) -> QA/QC | M19: =IF($S19="","",INDEX(Data!$L$7:$L$206,$S19)) -> Offline | N19: =IF($S19="","",INDEX(Data!$M$7:$M$206,$S19)) -> Phòng QC | P19: =IF($S19="","",INDEX(Data!$O$7:$O$206,$S19)) -> 12 | Q19: =IF($S19="","",IF(INDEX(Data!$E$7:$E$206,$S19)<=TODAY(),"Đang học",INDEX(Data!$E$7:$E$206,$S19)-TODAY()&" ngày")) -> 1 ngày | S19: =IFERROR(MATCH(SMALL(Data!$AA$7:$AA$206,3),Data!$AA$7:$AA$206,0),"") -> 34
B20: =IF($S20="","",INDEX(Data!$E$7:$E$206,$S20)) -> 46351 | C20: =IF($S20="","",INDEX(Data!$F$7:$F$206,$S20)) -> 46351 | D20: =IF($S20="","",INDEX(Data!$B$7:$B$206,$S20)) -> DT26-035 | E20: =IF($S20="","",INDEX(Data!$C$7:$C$206,$S20)) -> Hội nhập nhân viên mới – Đợt 5 | I20: =IF($S20="","",INDEX(Data!$D$7:$D$206,$S20)) -> Hội nhập | J20: =IF($S20="","",INDEX(Data!$J$7:$J$206,$S20)) -> Phạm Thu Dung | L20: =IF($S20="","",INDEX(Data!$N$7:$N$206,$S20)) -> Toàn công ty | M20: =IF($S20="","",INDEX(Data!$L$7:$L$206,$S20)) -> Offline | N20: =IF($S20="","",INDEX(Data!$M$7:$M$206,$S20)) -> Hội trường | P20: =IF($S20="","",INDEX(Data!$O$7:$O$206,$S20)) -> 30 | Q20: =IF($S20="","",IF(INDEX(Data!$E$7:$E$206,$S20)<=TODAY(),"Đang học",INDEX(Data!$E$7:$E$206,$S20)-TODAY()&" ngày")) -> 36 ngày | S20: =IFERROR(MATCH(SMALL(Data!$AA$7:$AA$206,4),Data!$AA$7:$AA$206,0),"") -> 35
B21: =IF($S21="","",INDEX(Data!$E$7:$E$206,$S21)) -> 46351 | C21: =IF($S21="","",INDEX(Data!$F$7:$F$206,$S21)) -> 46351 | D21: =IF($S21="","",INDEX(Data!$B$7:$B$206,$S21)) -> DT26-036 | E21: =IF($S21="","",INDEX(Data!$C$7:$C$206,$S21)) -> Quản lý dự án Agile | I21: =IF($S21="","",INDEX(Data!$D$7:$D$206,$S21)) -> Technical | J21: =IF($S21="","",INDEX(Data!$J$7:$J$206,$S21)) -> Đơn vị đào tạo kỹ năng | L21: =IF($S21="","",INDEX(Data!$N$7:$N$206,$S21)) -> IT | M21: =IF($S21="","",INDEX(Data!$L$7:$L$206,$S21)) -> Offline | N21: =IF($S21="","",INDEX(Data!$M$7:$M$206,$S21)) -> Phòng họp B | P21: =IF($S21="","",INDEX(Data!$O$7:$O$206,$S21)) -> 10 | Q21: =IF($S21="","",IF(INDEX(Data!$E$7:$E$206,$S21)<=TODAY(),"Đang học",INDEX(Data!$E$7:$E$206,$S21)-TODAY()&" ngày")) -> 36 ngày | S21: =IFERROR(MATCH(SMALL(Data!$AA$7:$AA$206,5),Data!$AA$7:$AA$206,0),"") -> 36
B22: =IF($S22="","",INDEX(Data!$E$7:$E$206,$S22)) -> 46365 | C22: =IF($S22="","",INDEX(Data!$F$7:$F$206,$S22)) -> 46365 | D22: =IF($S22="","",INDEX(Data!$B$7:$B$206,$S22)) -> DT26-037 | E22: =IF($S22="","",INDEX(Data!$C$7:$C$206,$S22)) -> Tổng kết & lập kế hoạch đào tạo 2027 | I22: =IF($S22="","",INDEX(Data!$D$7:$D$206,$S22)) -> Leadership | J22: =IF($S22="","",INDEX(Data!$J$7:$J$206,$S22)) -> Phạm Thu Dung | L22: =IF($S22="","",INDEX(Data!$N$7:$N$206,$S22)) -> Ban Giám đốc | M22: =IF($S22="","",INDEX(Data!$L$7:$L$206,$S22)) -> Offline | N22: =IF($S22="","",INDEX(Data!$M$7:$M$206,$S22)) -> Phòng họp B | P22: =IF($S22="","",INDEX(Data!$O$7:$O$206,$S22)) -> 10 | Q22: =IF($S22="","",IF(INDEX(Data!$E$7:$E$206,$S22)<=TODAY(),"Đang học",INDEX(Data!$E$7:$E$206,$S22)-TODAY()&" ngày")) -> 50 ngày | S22: =IFERROR(MATCH(SMALL(Data!$AA$7:$AA$206,6),Data!$AA$7:$AA$206,0),"") -> 37
B23: =IF($S23="","",INDEX(Data!$E$7:$E$206,$S23)) -> 46384 | C23: =IF($S23="","",INDEX(Data!$F$7:$F$206,$S23)) -> 46385 | D23: =IF($S23="","",INDEX(Data!$B$7:$B$206,$S23)) -> DT26-038 | E23: =IF($S23="","",INDEX(Data!$C$7:$C$206,$S23)) -> Phân tích tài chính cho quản lý | I23: =IF($S23="","",INDEX(Data!$D$7:$D$206,$S23)) -> Technical | J23: =IF($S23="","",INDEX(Data!$J$7:$J$206,$S23)) -> Đơn vị đào tạo kỹ năng | L23: =IF($S23="","",INDEX(Data!$N$7:$N$206,$S23)) -> Toàn công ty | M23: =IF($S23="","",INDEX(Data!$L$7:$L$206,$S23)) -> Offline | N23: =IF($S23="","",INDEX(Data!$M$7:$M$206,$S23)) -> Hội trường | P23: =IF($S23="","",INDEX(Data!$O$7:$O$206,$S23)) -> 25 | Q23: =IF($S23="","",IF(INDEX(Data!$E$7:$E$206,$S23)<=TODAY(),"Đang học",INDEX(Data!$E$7:$E$206,$S23)-TODAY()&" ngày")) -> 69 ngày | S23: =IFERROR(MATCH(SMALL(Data!$AA$7:$AA$206,7),Data!$AA$7:$AA$206,0),"") -> 38
B24: =IF($S24="","",INDEX(Data!$E$7:$E$206,$S24)) | C24: =IF($S24="","",INDEX(Data!$F$7:$F$206,$S24)) | D24: =IF($S24="","",INDEX(Data!$B$7:$B$206,$S24)) | E24: =IF($S24="","",INDEX(Data!$C$7:$C$206,$S24)) | I24: =IF($S24="","",INDEX(Data!$D$7:$D$206,$S24)) | J24: =IF($S24="","",INDEX(Data!$J$7:$J$206,$S24)) | L24: =IF($S24="","",INDEX(Data!$N$7:$N$206,$S24)) | M24: =IF($S24="","",INDEX(Data!$L$7:$L$206,$S24)) | N24: =IF($S24="","",INDEX(Data!$M$7:$M$206,$S24)) | P24: =IF($S24="","",INDEX(Data!$O$7:$O$206,$S24)) | Q24: =IF($S24="","",IF(INDEX(Data!$E$7:$E$206,$S24)<=TODAY(),"Đang học",INDEX(Data!$E$7:$E$206,$S24)-TODAY()&" ngày")) | S24: =IFERROR(MATCH(SMALL(Data!$AA$7:$AA$206,8),Data!$AA$7:$AA$206,0),"")
B26: ="TIẾN ĐỘ THEO THÁNG | "&$P$2 -> TIẾN ĐỘ THEO THÁNG | 2026 | M26: THEO NGUỒN GIẢNG VIÊN
B27: Tháng | C27: Khóa KH | D27: Hoàn thành | E27: Giờ lớp | F27: HV kế hoạch | G27: HV thực tế | H27: Tỷ lệ TD | I27: Chi phí (tr đ) | J27: CP lũy kế (tr đ) | K27: NS lũy kế (tr đ) | M27: Nguồn | N27: Khóa | O27: Giờ lớp | P27: Chi phí (tr đ) | Q27: % chi phí
B28: T1 | C28: =COUNTIFS(Data!$E$7:$E$206,">="&DATE($P$2,1,1),Data!$E$7:$E$206,"<"&DATE($P$2,2,1),Data!$T$7:$T$206,"") -> 4 | D28: =COUNTIFS(Data!$E$7:$E$206,">="&DATE($P$2,1,1),Data!$E$7:$E$206,"<"&DATE($P$2,2,1),Data!$T$7:$T$206,"",Data!$U$7:$U$206,"Đã hoàn thành") -> 4 | E28: =SUMIFS(Data!$I$7:$I$206,Data!$E$7:$E$206,">="&DATE($P$2,1,1),Data!$E$7:$E$206,"<"&DATE($P$2,2,1),Data!$T$7:$T$206,"") -> 40 | F28: =SUMIFS(Data!$O$7:$O$206,Data!$E$7:$E$206,">="&DATE($P$2,1,1),Data!$E$7:$E$206,"<"&DATE($P$2,2,1),Data!$T$7:$T$206,"") -> 135 | G28: =SUMIFS(Data!$P$7:$P$206,Data!$E$7:$E$206,">="&DATE($P$2,1,1),Data!$E$7:$E$206,"<"&DATE($P$2,2,1),Data!$T$7:$T$206,"") -> 120 | H28: =IFERROR(SUMIFS(Data!$P$7:$P$206,Data!$E$7:$E$206,">="&DATE($P$2,1,1),Data!$E$7:$E$206,"<"&DATE($P$2,2,1),Data!$T$7:$T$206,"",Data!$U$7:$U$206,"Đã hoàn thành")/SUMIFS(Data!$O$7:$O$206,Data!$E$7:$E$206,">="&DATE($P$2,1,1),Data!$E$7:$E$206,"<"&DATE($P$2,2,1),Data!$T$7:$T$206,"",Data!$U$7:$U$206,"Đã hoàn thành"),"") -> 0.93636364 | I28: =SUMIFS(Data!$R$7:$R$206,Data!$E$7:$E$206,">="&DATE($P$2,1,1),Data!$E$7:$E$206,"<"&DATE($P$2,2,1),Data!$T$7:$T$206,"") -> 23000000 | J28: =SUM($I$28:I28) -> 23000000 | K28: =IFERROR(INDEX('Cài đặt'!$C$20:$C$25,MATCH($P$2,'Cài đặt'!$B$20:$B$25,0)),0)*1/12 -> 29166667 | M28: Nội bộ | N28: =COUNTIFS(Data!$W$7:$W$206,$P$2,Data!$T$7:$T$206,"",Data!$K$7:$K$206,$M28) -> 20 | O28: =SUMIFS(Data!$I$7:$I$206,Data!$W$7:$W$206,$P$2,Data!$T$7:$T$206,"",Data!$K$7:$K$206,$M28) -> 120 | P28: =SUMIFS(Data!$R$7:$R$206,Data!$W$7:$W$206,$P$2,Data!$T$7:$T$206,"",Data!$K$7:$K$206,$M28) -> 5000000 | Q28: =IFERROR(P28/SUM($P$28:$P$29),0) -> 0.016447368
B29: T2 | C29: =COUNTIFS(Data!$E$7:$E$206,">="&DATE($P$2,2,1),Data!$E$7:$E$206,"<"&DATE($P$2,3,1),Data!$T$7:$T$206,"") -> 3 | D29: =COUNTIFS(Data!$E$7:$E$206,">="&DATE($P$2,2,1),Data!$E$7:$E$206,"<"&DATE($P$2,3,1),Data!$T$7:$T$206,"",Data!$U$7:$U$206,"Đã hoàn thành") -> 3 | E29: =SUMIFS(Data!$I$7:$I$206,Data!$E$7:$E$206,">="&DATE($P$2,2,1),Data!$E$7:$E$206,"<"&DATE($P$2,3,1),Data!$T$7:$T$206,"") -> 36 | F29: =SUMIFS(Data!$O$7:$O$206,Data!$E$7:$E$206,">="&DATE($P$2,2,1),Data!$E$7:$E$206,"<"&DATE($P$2,3,1),Data!$T$7:$T$206,"") -> 70 | G29: =SUMIFS(Data!$P$7:$P$206,Data!$E$7:$E$206,">="&DATE($P$2,2,1),Data!$E$7:$E$206,"<"&DATE($P$2,3,1),Data!$T$7:$T$206,"") -> 61 | H29: =IFERROR(SUMIFS(Data!$P$7:$P$206,Data!$E$7:$E$206,">="&DATE($P$2,2,1),Data!$E$7:$E$206,"<"&DATE($P$2,3,1),Data!$T$7:$T$206,"",Data!$U$7:$U$206,"Đã hoàn thành")/SUMIFS(Data!$O$7:$O$206,Data!$E$7:$E$206,">="&DATE($P$2,2,1),Data!$E$7:$E$206,"<"&DATE($P$2,3,1),Data!$T$7:$T$206,"",Data!$U$7:$U$206,"Đã hoàn thành"),"") -> 0.93846154 | I29: =SUMIFS(Data!$R$7:$R$206,Data!$E$7:$E$206,">="&DATE($P$2,2,1),Data!$E$7:$E$206,"<"&DATE($P$2,3,1),Data!$T$7:$T$206,"") -> 23000000 | J29: =SUM($I$28:I29) -> 46000000 | K29: =IFERROR(INDEX('Cài đặt'!$C$20:$C$25,MATCH($P$2,'Cài đặt'!$B$20:$B$25,0)),0)*2/12 -> 58333333 | M29: Thuê ngoài | N29: =COUNTIFS(Data!$W$7:$W$206,$P$2,Data!$T$7:$T$206,"",Data!$K$7:$K$206,$M29) -> 16 | O29: =SUMIFS(Data!$I$7:$I$206,Data!$W$7:$W$206,$P$2,Data!$T$7:$T$206,"",Data!$K$7:$K$206,$M29) -> 168 | P29: =SUMIFS(Data!$R$7:$R$206,Data!$W$7:$W$206,$P$2,Data!$T$7:$T$206,"",Data!$K$7:$K$206,$M29) -> 299000000 | Q29: =IFERROR(P29/SUM($P$28:$P$29),0) -> 0.98355263
B30: T3 | C30: =COUNTIFS(Data!$E$7:$E$206,">="&DATE($P$2,3,1),Data!$E$7:$E$206,"<"&DATE($P$2,4,1),Data!$T$7:$T$206,"") -> 2 | D30: =COUNTIFS(Data!$E$7:$E$206,">="&DATE($P$2,3,1),Data!$E$7:$E$206,"<"&DATE($P$2,4,1),Data!$T$7:$T$206,"",Data!$U$7:$U$206,"Đã hoàn thành") -> 2 | E30: =SUMIFS(Data!$I$7:$I$206,Data!$E$7:$E$206,">="&DATE($P$2,3,1),Data!$E$7:$E$206,"<"&DATE($P$2,4,1),Data!$T$7:$T$206,"") -> 12 | F30: =SUMIFS(Data!$O$7:$O$206,Data!$E$7:$E$206,">="&DATE($P$2,3,1),Data!$E$7:$E$206,"<"&DATE($P$2,4,1),Data!$T$7:$T$206,"") -> 55 | G30: =SUMIFS(Data!$P$7:$P$206,Data!$E$7:$E$206,">="&DATE($P$2,3,1),Data!$E$7:$E$206,"<"&DATE($P$2,4,1),Data!$T$7:$T$206,"") -> 44 | H30: =IFERROR(SUMIFS(Data!$P$7:$P$206,Data!$E$7:$E$206,">="&DATE($P$2,3,1),Data!$E$7:$E$206,"<"&DATE($P$2,4,1),Data!$T$7:$T$206,"",Data!$U$7:$U$206,"Đã hoàn thành")/SUMIFS(Data!$O$7:$O$206,Data!$E$7:$E$206,">="&DATE($P$2,3,1),Data!$E$7:$E$206,"<"&DATE($P$2,4,1),Data!$T$7:$T$206,"",Data!$U$7:$U$206,"Đã hoàn thành"),"") -> 0.925 | I30: =SUMIFS(Data!$R$7:$R$206,Data!$E$7:$E$206,">="&DATE($P$2,3,1),Data!$E$7:$E$206,"<"&DATE($P$2,4,1),Data!$T$7:$T$206,"") -> 20000000 | J30: =SUM($I$28:I30) -> 66000000 | K30: =IFERROR(INDEX('Cài đặt'!$C$20:$C$25,MATCH($P$2,'Cài đặt'!$B$20:$B$25,0)),0)*3/12 -> 87500000
B31: T4 | C31: =COUNTIFS(Data!$E$7:$E$206,">="&DATE($P$2,4,1),Data!$E$7:$E$206,"<"&DATE($P$2,5,1),Data!$T$7:$T$206,"") -> 3 | D31: =COUNTIFS(Data!$E$7:$E$206,">="&DATE($P$2,4,1),Data!$E$7:$E$206,"<"&DATE($P$2,5,1),Data!$T$7:$T$206,"",Data!$U$7:$U$206,"Đã hoàn thành") -> 3 | E31: =SUMIFS(Data!$I$7:$I$206,Data!$E$7:$E$206,">="&DATE($P$2,4,1),Data!$E$7:$E$206,"<"&DATE($P$2,5,1),Data!$T$7:$T$206,"") -> 20 | F31: =SUMIFS(Data!$O$7:$O$206,Data!$E$7:$E$206,">="&DATE($P$2,4,1),Data!$E$7:$E$206,"<"&DATE($P$2,5,1),Data!$T$7:$T$206,"") -> 180 | G31: =SUMIFS(Data!$P$7:$P$206,Data!$E$7:$E$206,">="&DATE($P$2,4,1),Data!$E$7:$E$206,"<"&DATE($P$2,5,1),Data!$T$7:$T$206,"") -> 165 | H31: =IFERROR(SUMIFS(Data!$P$7:$P$206,Data!$E$7:$E$206,">="&DATE($P$2,4,1),Data!$E$7:$E$206,"<"&DATE($P$2,5,1),Data!$T$7:$T$206,"",Data!$U$7:$U$206,"Đã hoàn thành")/SUMIFS(Data!$O$7:$O$206,Data!$E$7:$E$206,">="&DATE($P$2,4,1),Data!$E$7:$E$206,"<"&DATE($P$2,5,1),Data!$T$7:$T$206,"",Data!$U$7:$U$206,"Đã hoàn thành"),"") -> 0.93548387 | I31: =SUMIFS(Data!$R$7:$R$206,Data!$E$7:$E$206,">="&DATE($P$2,4,1),Data!$E$7:$E$206,"<"&DATE($P$2,5,1),Data!$T$7:$T$206,"") -> 56000000 | J31: =SUM($I$28:I31) -> 122000000 | K31: =IFERROR(INDEX('Cài đặt'!$C$20:$C$25,MATCH($P$2,'Cài đặt'!$B$20:$B$25,0)),0)*4/12 -> 1.1666667e+08
B32: T5 | C32: =COUNTIFS(Data!$E$7:$E$206,">="&DATE($P$2,5,1),Data!$E$7:$E$206,"<"&DATE($P$2,6,1),Data!$T$7:$T$206,"") -> 3 | D32: =COUNTIFS(Data!$E$7:$E$206,">="&DATE($P$2,5,1),Data!$E$7:$E$206,"<"&DATE($P$2,6,1),Data!$T$7:$T$206,"",Data!$U$7:$U$206,"Đã hoàn thành") -> 3 | E32: =SUMIFS(Data!$I$7:$I$206,Data!$E$7:$E$206,">="&DATE($P$2,5,1),Data!$E$7:$E$206,"<"&DATE($P$2,6,1),Data!$T$7:$T$206,"") -> 12 | F32: =SUMIFS(Data!$O$7:$O$206,Data!$E$7:$E$206,">="&DATE($P$2,5,1),Data!$E$7:$E$206,"<"&DATE($P$2,6,1),Data!$T$7:$T$206,"") -> 140 | G32: =SUMIFS(Data!$P$7:$P$206,Data!$E$7:$E$206,">="&DATE($P$2,5,1),Data!$E$7:$E$206,"<"&DATE($P$2,6,1),Data!$T$7:$T$206,"") -> 129 | H32: =IFERROR(SUMIFS(Data!$P$7:$P$206,Data!$E$7:$E$206,">="&DATE($P$2,5,1),Data!$E$7:$E$206,"<"&DATE($P$2,6,1),Data!$T$7:$T$206,"",Data!$U$7:$U$206,"Đã hoàn thành")/SUMIFS(Data!$O$7:$O$206,Data!$E$7:$E$206,">="&DATE($P$2,5,1),Data!$E$7:$E$206,"<"&DATE($P$2,6,1),Data!$T$7:$T$206,"",Data!$U$7:$U$206,"Đã hoàn thành"),"") -> 0.89873418 | I32: =SUMIFS(Data!$R$7:$R$206,Data!$E$7:$E$206,">="&DATE($P$2,5,1),Data!$E$7:$E$206,"<"&DATE($P$2,6,1),Data!$T$7:$T$206,"") -> 8000000 | J32: =SUM($I$28:I32) -> 130000000 | K32: =IFERROR(INDEX('Cài đặt'!$C$20:$C$25,MATCH($P$2,'Cài đặt'!$B$20:$B$25,0)),0)*5/12 -> 1.4583333e+08 | M32: THEO HÌNH THỨC
B33: T6 | C33: =COUNTIFS(Data!$E$7:$E$206,">="&DATE($P$2,6,1),Data!$E$7:$E$206,"<"&DATE($P$2,7,1),Data!$T$7:$T$206,"") -> 3 | D33: =COUNTIFS(Data!$E$7:$E$206,">="&DATE($P$2,6,1),Data!$E$7:$E$206,"<"&DATE($P$2,7,1),Data!$T$7:$T$206,"",Data!$U$7:$U$206,"Đã hoàn thành") -> 3 | E33: =SUMIFS(Data!$I$7:$I$206,Data!$E$7:$E$206,">="&DATE($P$2,6,1),Data!$E$7:$E$206,"<"&DATE($P$2,7,1),Data!$T$7:$T$206,"") -> 36 | F33: =SUMIFS(Data!$O$7:$O$206,Data!$E$7:$E$206,">="&DATE($P$2,6,1),Data!$E$7:$E$206,"<"&DATE($P$2,7,1),Data!$T$7:$T$206,"") -> 90 | G33: =SUMIFS(Data!$P$7:$P$206,Data!$E$7:$E$206,">="&DATE($P$2,6,1),Data!$E$7:$E$206,"<"&DATE($P$2,7,1),Data!$T$7:$T$206,"") -> 79 | H33: =IFERROR(SUMIFS(Data!$P$7:$P$206,Data!$E$7:$E$206,">="&DATE($P$2,6,1),Data!$E$7:$E$206,"<"&DATE($P$2,7,1),Data!$T$7:$T$206,"",Data!$U$7:$U$206,"Đã hoàn thành")/SUMIFS(Data!$O$7:$O$206,Data!$E$7:$E$206,">="&DATE($P$2,6,1),Data!$E$7:$E$206,"<"&DATE($P$2,7,1),Data!$T$7:$T$206,"",Data!$U$7:$U$206,"Đã hoàn thành"),"") -> 0.9137931 | I33: =SUMIFS(Data!$R$7:$R$206,Data!$E$7:$E$206,">="&DATE($P$2,6,1),Data!$E$7:$E$206,"<"&DATE($P$2,7,1),Data!$T$7:$T$206,"") -> 20000000 | J33: =SUM($I$28:I33) -> 150000000 | K33: =IFERROR(INDEX('Cài đặt'!$C$20:$C$25,MATCH($P$2,'Cài đặt'!$B$20:$B$25,0)),0)*6/12 -> 175000000 | M33: Hình thức | N33: Khóa | O33: Lượt HV | P33: Tỷ lệ TD | Q33: Điểm TB
B34: T7 | C34: =COUNTIFS(Data!$E$7:$E$206,">="&DATE($P$2,7,1),Data!$E$7:$E$206,"<"&DATE($P$2,8,1),Data!$T$7:$T$206,"") -> 4 | D34: =COUNTIFS(Data!$E$7:$E$206,">="&DATE($P$2,7,1),Data!$E$7:$E$206,"<"&DATE($P$2,8,1),Data!$T$7:$T$206,"",Data!$U$7:$U$206,"Đã hoàn thành") -> 4 | E34: =SUMIFS(Data!$I$7:$I$206,Data!$E$7:$E$206,">="&DATE($P$2,7,1),Data!$E$7:$E$206,"<"&DATE($P$2,8,1),Data!$T$7:$T$206,"") -> 24 | F34: =SUMIFS(Data!$O$7:$O$206,Data!$E$7:$E$206,">="&DATE($P$2,7,1),Data!$E$7:$E$206,"<"&DATE($P$2,8,1),Data!$T$7:$T$206,"") -> 125 | G34: =SUMIFS(Data!$P$7:$P$206,Data!$E$7:$E$206,">="&DATE($P$2,7,1),Data!$E$7:$E$206,"<"&DATE($P$2,8,1),Data!$T$7:$T$206,"") -> 112 | H34: =IFERROR(SUMIFS(Data!$P$7:$P$206,Data!$E$7:$E$206,">="&DATE($P$2,7,1),Data!$E$7:$E$206,"<"&DATE($P$2,8,1),Data!$T$7:$T$206,"",Data!$U$7:$U$206,"Đã hoàn thành")/SUMIFS(Data!$O$7:$O$206,Data!$E$7:$E$206,">="&DATE($P$2,7,1),Data!$E$7:$E$206,"<"&DATE($P$2,8,1),Data!$T$7:$T$206,"",Data!$U$7:$U$206,"Đã hoàn thành"),"") -> 0.90769231 | I34: =SUMIFS(Data!$R$7:$R$206,Data!$E$7:$E$206,">="&DATE($P$2,7,1),Data!$E$7:$E$206,"<"&DATE($P$2,8,1),Data!$T$7:$T$206,"") -> 28000000 | J34: =SUM($I$28:I34) -> 178000000 | K34: =IFERROR(INDEX('Cài đặt'!$C$20:$C$25,MATCH($P$2,'Cài đặt'!$B$20:$B$25,0)),0)*7/12 -> 2.0416667e+08 | M34: Offline | N34: =COUNTIFS(Data!$W$7:$W$206,$P$2,Data!$T$7:$T$206,"",Data!$L$7:$L$206,$M34) -> 31 | O34: =SUMIFS(Data!$P$7:$P$206,Data!$W$7:$W$206,$P$2,Data!$T$7:$T$206,"",Data!$L$7:$L$206,$M34) -> 619 | P34: =IFERROR(SUMIFS(Data!$P$7:$P$206,Data!$W$7:$W$206,$P$2,Data!$T$7:$T$206,"",Data!$L$7:$L$206,$M34,Data!$U$7:$U$206,"Đã hoàn thành")/SUMIFS(Data!$O$7:$O$206,Data!$W$7:$W$206,$P$2,Data!$T$7:$T$206,"",Data!$L$7:$L$206,$M34,Data!$U$7:$U$206,"Đã hoàn thành"),"-") -> 0.92113095 | Q34: =IFERROR(AVERAGEIFS(Data!$S$7:$S$206,Data!$W$7:$W$206,$P$2,Data!$T$7:$T$206,"",Data!$L$7:$L$206,$M34),"-") -> 4.312
B35: T8 | C35: =COUNTIFS(Data!$E$7:$E$206,">="&DATE($P$2,8,1),Data!$E$7:$E$206,"<"&DATE($P$2,9,1),Data!$T$7:$T$206,"") -> 3 | D35: =COUNTIFS(Data!$E$7:$E$206,">="&DATE($P$2,8,1),Data!$E$7:$E$206,"<"&DATE($P$2,9,1),Data!$T$7:$T$206,"",Data!$U$7:$U$206,"Đã hoàn thành") -> 3 | E35: =SUMIFS(Data!$I$7:$I$206,Data!$E$7:$E$206,">="&DATE($P$2,8,1),Data!$E$7:$E$206,"<"&DATE($P$2,9,1),Data!$T$7:$T$206,"") -> 24 | F35: =SUMIFS(Data!$O$7:$O$206,Data!$E$7:$E$206,">="&DATE($P$2,8,1),Data!$E$7:$E$206,"<"&DATE($P$2,9,1),Data!$T$7:$T$206,"") -> 135 | G35: =SUMIFS(Data!$P$7:$P$206,Data!$E$7:$E$206,">="&DATE($P$2,8,1),Data!$E$7:$E$206,"<"&DATE($P$2,9,1),Data!$T$7:$T$206,"") -> 113 | H35: =IFERROR(SUMIFS(Data!$P$7:$P$206,Data!$E$7:$E$206,">="&DATE($P$2,8,1),Data!$E$7:$E$206,"<"&DATE($P$2,9,1),Data!$T$7:$T$206,"",Data!$U$7:$U$206,"Đã hoàn thành")/SUMIFS(Data!$O$7:$O$206,Data!$E$7:$E$206,">="&DATE($P$2,8,1),Data!$E$7:$E$206,"<"&DATE($P$2,9,1),Data!$T$7:$T$206,"",Data!$U$7:$U$206,"Đã hoàn thành"),"") -> 0.91176471 | I35: =SUMIFS(Data!$R$7:$R$206,Data!$E$7:$E$206,">="&DATE($P$2,8,1),Data!$E$7:$E$206,"<"&DATE($P$2,9,1),Data!$T$7:$T$206,"") -> 15000000 | J35: =SUM($I$28:I35) -> 193000000 | K35: =IFERROR(INDEX('Cài đặt'!$C$20:$C$25,MATCH($P$2,'Cài đặt'!$B$20:$B$25,0)),0)*8/12 -> 2.3333333e+08 | M35: Online | N35: =COUNTIFS(Data!$W$7:$W$206,$P$2,Data!$T$7:$T$206,"",Data!$L$7:$L$206,$M35) -> 5 | O35: =SUMIFS(Data!$P$7:$P$206,Data!$W$7:$W$206,$P$2,Data!$T$7:$T$206,"",Data!$L$7:$L$206,$M35) -> 103 | P35: =IFERROR(SUMIFS(Data!$P$7:$P$206,Data!$W$7:$W$206,$P$2,Data!$T$7:$T$206,"",Data!$L$7:$L$206,$M35,Data!$U$7:$U$206,"Đã hoàn thành")/SUMIFS(Data!$O$7:$O$206,Data!$W$7:$W$206,$P$2,Data!$T$7:$T$206,"",Data!$L$7:$L$206,$M35,Data!$U$7:$U$206,"Đã hoàn thành"),"-") -> 0.90350877 | Q35: =IFERROR(AVERAGEIFS(Data!$S$7:$S$206,Data!$W$7:$W$206,$P$2,Data!$T$7:$T$206,"",Data!$L$7:$L$206,$M35),"-") -> 4.25
B36: T9 | C36: =COUNTIFS(Data!$E$7:$E$206,">="&DATE($P$2,9,1),Data!$E$7:$E$206,"<"&DATE($P$2,10,1),Data!$T$7:$T$206,"") -> 3 | D36: =COUNTIFS(Data!$E$7:$E$206,">="&DATE($P$2,9,1),Data!$E$7:$E$206,"<"&DATE($P$2,10,1),Data!$T$7:$T$206,"",Data!$U$7:$U$206,"Đã hoàn thành") -> 3 | E36: =SUMIFS(Data!$I$7:$I$206,Data!$E$7:$E$206,">="&DATE($P$2,9,1),Data!$E$7:$E$206,"<"&DATE($P$2,10,1),Data!$T$7:$T$206,"") -> 28 | F36: =SUMIFS(Data!$O$7:$O$206,Data!$E$7:$E$206,">="&DATE($P$2,9,1),Data!$E$7:$E$206,"<"&DATE($P$2,10,1),Data!$T$7:$T$206,"") -> 140 | G36: =SUMIFS(Data!$P$7:$P$206,Data!$E$7:$E$206,">="&DATE($P$2,9,1),Data!$E$7:$E$206,"<"&DATE($P$2,10,1),Data!$T$7:$T$206,"") -> 134 | H36: =IFERROR(SUMIFS(Data!$P$7:$P$206,Data!$E$7:$E$206,">="&DATE($P$2,9,1),Data!$E$7:$E$206,"<"&DATE($P$2,10,1),Data!$T$7:$T$206,"",Data!$U$7:$U$206,"Đã hoàn thành")/SUMIFS(Data!$O$7:$O$206,Data!$E$7:$E$206,">="&DATE($P$2,9,1),Data!$E$7:$E$206,"<"&DATE($P$2,10,1),Data!$T$7:$T$206,"",Data!$U$7:$U$206,"Đã hoàn thành"),"") -> 0.91111111 | I36: =SUMIFS(Data!$R$7:$R$206,Data!$E$7:$E$206,">="&DATE($P$2,9,1),Data!$E$7:$E$206,"<"&DATE($P$2,10,1),Data!$T$7:$T$206,"") -> 60000000 | J36: =SUM($I$28:I36) -> 253000000 | K36: =IFERROR(INDEX('Cài đặt'!$C$20:$C$25,MATCH($P$2,'Cài đặt'!$B$20:$B$25,0)),0)*9/12 -> 262500000 | M36: Hybrid | N36: =COUNTIFS(Data!$W$7:$W$206,$P$2,Data!$T$7:$T$206,"",Data!$L$7:$L$206,$M36) -> 0 | O36: =SUMIFS(Data!$P$7:$P$206,Data!$W$7:$W$206,$P$2,Data!$T$7:$T$206,"",Data!$L$7:$L$206,$M36) -> 0 | P36: =IFERROR(SUMIFS(Data!$P$7:$P$206,Data!$W$7:$W$206,$P$2,Data!$T$7:$T$206,"",Data!$L$7:$L$206,$M36,Data!$U$7:$U$206,"Đã hoàn thành")/SUMIFS(Data!$O$7:$O$206,Data!$W$7:$W$206,$P$2,Data!$T$7:$T$206,"",Data!$L$7:$L$206,$M36,Data!$U$7:$U$206,"Đã hoàn thành"),"-") -> - | Q36: =IFERROR(AVERAGEIFS(Data!$S$7:$S$206,Data!$W$7:$W$206,$P$2,Data!$T$7:$T$206,"",Data!$L$7:$L$206,$M36),"-") -> -
B37: T10 | C37: =COUNTIFS(Data!$E$7:$E$206,">="&DATE($P$2,10,1),Data!$E$7:$E$206,"<"&DATE($P$2,11,1),Data!$T$7:$T$206,"") -> 4 | D37: =COUNTIFS(Data!$E$7:$E$206,">="&DATE($P$2,10,1),Data!$E$7:$E$206,"<"&DATE($P$2,11,1),Data!$T$7:$T$206,"",Data!$U$7:$U$206,"Đã hoàn thành") -> 1 | E37: =SUMIFS(Data!$I$7:$I$206,Data!$E$7:$E$206,">="&DATE($P$2,10,1),Data!$E$7:$E$206,"<"&DATE($P$2,11,1),Data!$T$7:$T$206,"") -> 24 | F37: =SUMIFS(Data!$O$7:$O$206,Data!$E$7:$E$206,">="&DATE($P$2,10,1),Data!$E$7:$E$206,"<"&DATE($P$2,11,1),Data!$T$7:$T$206,"") -> 145 | G37: =SUMIFS(Data!$P$7:$P$206,Data!$E$7:$E$206,">="&DATE($P$2,10,1),Data!$E$7:$E$206,"<"&DATE($P$2,11,1),Data!$T$7:$T$206,"") -> 24 | H37: =IFERROR(SUMIFS(Data!$P$7:$P$206,Data!$E$7:$E$206,">="&DATE($P$2,10,1),Data!$E$7:$E$206,"<"&DATE($P$2,11,1),Data!$T$7:$T$206,"",Data!$U$7:$U$206,"Đã hoàn thành")/SUMIFS(Data!$O$7:$O$206,Data!$E$7:$E$206,">="&DATE($P$2,10,1),Data!$E$7:$E$206,"<"&DATE($P$2,11,1),Data!$T$7:$T$206,"",Data!$U$7:$U$206,"Đã hoàn thành"),"") -> 0.96 | I37: =SUMIFS(Data!$R$7:$R$206,Data!$E$7:$E$206,">="&DATE($P$2,10,1),Data!$E$7:$E$206,"<"&DATE($P$2,11,1),Data!$T$7:$T$206,"") -> 3000000 | J37: =SUM($I$28:I37) -> 256000000 | K37: =IFERROR(INDEX('Cài đặt'!$C$20:$C$25,MATCH($P$2,'Cài đặt'!$B$20:$B$25,0)),0)*10/12 -> 2.9166667e+08
B38: T11 | C38: =COUNTIFS(Data!$E$7:$E$206,">="&DATE($P$2,11,1),Data!$E$7:$E$206,"<"&DATE($P$2,12,1),Data!$T$7:$T$206,"") -> 2 | D38: =COUNTIFS(Data!$E$7:$E$206,">="&DATE($P$2,11,1),Data!$E$7:$E$206,"<"&DATE($P$2,12,1),Data!$T$7:$T$206,"",Data!$U$7:$U$206,"Đã hoàn thành") -> 0 | E38: =SUMIFS(Data!$I$7:$I$206,Data!$E$7:$E$206,">="&DATE($P$2,11,1),Data!$E$7:$E$206,"<"&DATE($P$2,12,1),Data!$T$7:$T$206,"") -> 12 | F38: =SUMIFS(Data!$O$7:$O$206,Data!$E$7:$E$206,">="&DATE($P$2,11,1),Data!$E$7:$E$206,"<"&DATE($P$2,12,1),Data!$T$7:$T$206,"") -> 100 | G38: =SUMIFS(Data!$P$7:$P$206,Data!$E$7:$E$206,">="&DATE($P$2,11,1),Data!$E$7:$E$206,"<"&DATE($P$2,12,1),Data!$T$7:$T$206,"") -> 0 | H38: =IFERROR(SUMIFS(Data!$P$7:$P$206,Data!$E$7:$E$206,">="&DATE($P$2,11,1),Data!$E$7:$E$206,"<"&DATE($P$2,12,1),Data!$T$7:$T$206,"",Data!$U$7:$U$206,"Đã hoàn thành")/SUMIFS(Data!$O$7:$O$206,Data!$E$7:$E$206,">="&DATE($P$2,11,1),Data!$E$7:$E$206,"<"&DATE($P$2,12,1),Data!$T$7:$T$206,"",Data!$U$7:$U$206,"Đã hoàn thành"),"") | I38: =SUMIFS(Data!$R$7:$R$206,Data!$E$7:$E$206,">="&DATE($P$2,11,1),Data!$E$7:$E$206,"<"&DATE($P$2,12,1),Data!$T$7:$T$206,"") -> 21000000 | J38: =SUM($I$28:I38) -> 277000000 | K38: =IFERROR(INDEX('Cài đặt'!$C$20:$C$25,MATCH($P$2,'Cài đặt'!$B$20:$B$25,0)),0)*11/12 -> 3.2083333e+08
B39: T12 | C39: =COUNTIFS(Data!$E$7:$E$206,">="&DATE($P$2,12,1),Data!$E$7:$E$206,"<"&DATE($P$2,13,1),Data!$T$7:$T$206,"") -> 2 | D39: =COUNTIFS(Data!$E$7:$E$206,">="&DATE($P$2,12,1),Data!$E$7:$E$206,"<"&DATE($P$2,13,1),Data!$T$7:$T$206,"",Data!$U$7:$U$206,"Đã hoàn thành") -> 0 | E39: =SUMIFS(Data!$I$7:$I$206,Data!$E$7:$E$206,">="&DATE($P$2,12,1),Data!$E$7:$E$206,"<"&DATE($P$2,13,1),Data!$T$7:$T$206,"") -> 20 | F39: =SUMIFS(Data!$O$7:$O$206,Data!$E$7:$E$206,">="&DATE($P$2,12,1),Data!$E$7:$E$206,"<"&DATE($P$2,13,1),Data!$T$7:$T$206,"") -> 65 | G39: =SUMIFS(Data!$P$7:$P$206,Data!$E$7:$E$206,">="&DATE($P$2,12,1),Data!$E$7:$E$206,"<"&DATE($P$2,13,1),Data!$T$7:$T$206,"") -> 0 | H39: =IFERROR(SUMIFS(Data!$P$7:$P$206,Data!$E$7:$E$206,">="&DATE($P$2,12,1),Data!$E$7:$E$206,"<"&DATE($P$2,13,1),Data!$T$7:$T$206,"",Data!$U$7:$U$206,"Đã hoàn thành")/SUMIFS(Data!$O$7:$O$206,Data!$E$7:$E$206,">="&DATE($P$2,12,1),Data!$E$7:$E$206,"<"&DATE($P$2,13,1),Data!$T$7:$T$206,"",Data!$U$7:$U$206,"Đã hoàn thành"),"") | I39: =SUMIFS(Data!$R$7:$R$206,Data!$E$7:$E$206,">="&DATE($P$2,12,1),Data!$E$7:$E$206,"<"&DATE($P$2,13,1),Data!$T$7:$T$206,"") -> 8000000 | J39: =SUM($I$28:I39) -> 285000000 | K39: =IFERROR(INDEX('Cài đặt'!$C$20:$C$25,MATCH($P$2,'Cài đặt'!$B$20:$B$25,0)),0)*12/12 -> 350000000
B40: Cả năm | C40: =SUM(C28:C39) -> 36 | D40: =SUM(D28:D39) -> 29 | E40: =SUM(E28:E39) -> 288 | F40: =SUM(F28:F39) -> 1380 | G40: =SUM(G28:G39) -> 981 | H40: =IFERROR(SUMIFS(Data!$P$7:$P$206,Data!$W$7:$W$206,$P$2,Data!$T$7:$T$206,"",Data!$U$7:$U$206,"Đã hoàn thành")/SUMIFS(Data!$O$7:$O$206,Data!$W$7:$W$206,$P$2,Data!$T$7:$T$206,"",Data!$U$7:$U$206,"Đã hoàn thành"),"") -> 0.91857506 | I40: =SUM(I28:I39) -> 285000000 | J40: =J39 -> 285000000 | K40: =K39 -> 350000000
B42: BIỂU ĐỒ TIẾN ĐỘ & NGÂN SÁCH
B60: THEO LOẠI KHÓA HỌC | J60: THEO ĐỐI TƯỢNG (PHÒNG BAN)
B61: Loại | C61: Khóa | D61: Giờ lớp | E61: Lượt HV | F61: Điểm TB | G61: Chi phí (tr đ) | H61: % chi phí | J61: Phòng ban | K61: Khóa | L61: Giờ lớp | M61: Lượt HV | N61: Giờ-người | O61: Tỷ lệ TD | P61: Điểm TB | Q61: Chi phí (tr đ)
B62: ='Danh mục'!B7 -> Technical | C62: =COUNTIFS(Data!$W$7:$W$206,$P$2,Data!$T$7:$T$206,"",Data!$D$7:$D$206,$B62) -> 8 | D62: =SUMIFS(Data!$I$7:$I$206,Data!$W$7:$W$206,$P$2,Data!$T$7:$T$206,"",Data!$D$7:$D$206,$B62) -> 64 | E62: =SUMIFS(Data!$P$7:$P$206,Data!$W$7:$W$206,$P$2,Data!$T$7:$T$206,"",Data!$D$7:$D$206,$B62) -> 129 | F62: =IFERROR(AVERAGEIFS(Data!$S$7:$S$206,Data!$W$7:$W$206,$P$2,Data!$T$7:$T$206,"",Data!$D$7:$D$206,$B62),"-") -> 4.3 | G62: =SUMIFS(Data!$R$7:$R$206,Data!$W$7:$W$206,$P$2,Data!$T$7:$T$206,"",Data!$D$7:$D$206,$B62) -> 53000000 | H62: =IFERROR(G62/SUM($G$62:$G$66),0) -> 0.17434211 | J62: ='Danh mục'!D7 -> Toàn công ty | K62: =COUNTIFS(Data!$W$7:$W$206,$P$2,Data!$T$7:$T$206,"",Data!$N$7:$N$206,$J62) -> 14 | L62: =SUMIFS(Data!$I$7:$I$206,Data!$W$7:$W$206,$P$2,Data!$T$7:$T$206,"",Data!$N$7:$N$206,$J62) -> 108 | M62: =SUMIFS(Data!$P$7:$P$206,Data!$W$7:$W$206,$P$2,Data!$T$7:$T$206,"",Data!$N$7:$N$206,$J62) -> 356 | N62: =SUMIFS(Data!$Z$7:$Z$206,Data!$W$7:$W$206,$P$2,Data!$T$7:$T$206,"",Data!$N$7:$N$206,$J62) -> 2032 | O62: =IFERROR(SUMIFS(Data!$P$7:$P$206,Data!$W$7:$W$206,$P$2,Data!$T$7:$T$206,"",Data!$N$7:$N$206,$J62,Data!$U$7:$U$206,"Đã hoàn thành")/SUMIFS(Data!$O$7:$O$206,Data!$W$7:$W$206,$P$2,Data!$T$7:$T$206,"",Data!$N$7:$N$206,$J62,Data!$U$7:$U$206,"Đã hoàn thành"),"-") -> 0.91282051 | P62: =IFERROR(AVERAGEIFS(Data!$S$7:$S$206,Data!$W$7:$W$206,$P$2,Data!$T$7:$T$206,"",Data!$N$7:$N$206,$J62),"-") -> 4.41 | Q62: =SUMIFS(Data!$R$7:$R$206,Data!$W$7:$W$206,$P$2,Data!$T$7:$T$206,"",Data!$N$7:$N$206,$J62) -> 143000000
B63: ='Danh mục'!B8 -> Soft Skill | C63: =COUNTIFS(Data!$W$7:$W$206,$P$2,Data!$T$7:$T$206,"",Data!$D$7:$D$206,$B63) -> 7 | D63: =SUMIFS(Data!$I$7:$I$206,Data!$W$7:$W$206,$P$2,Data!$T$7:$T$206,"",Data!$D$7:$D$206,$B63) -> 64 | E63: =SUMIFS(Data!$P$7:$P$206,Data!$W$7:$W$206,$P$2,Data!$T$7:$T$206,"",Data!$D$7:$D$206,$B63) -> 128 | F63: =IFERROR(AVERAGEIFS(Data!$S$7:$S$206,Data!$W$7:$W$206,$P$2,Data!$T$7:$T$206,"",Data!$D$7:$D$206,$B63),"-") -> 4.2833333 | G63: =SUMIFS(Data!$R$7:$R$206,Data!$W$7:$W$206,$P$2,Data!$T$7:$T$206,"",Data!$D$7:$D$206,$B63) -> 88000000 | H63: =IFERROR(G63/SUM($G$62:$G$66),0) -> 0.28947368 | J63: ='Danh mục'!D8 -> Sản xuất | K63: =COUNTIFS(Data!$W$7:$W$206,$P$2,Data!$T$7:$T$206,"",Data!$N$7:$N$206,$J63) -> 4 | L63: =SUMIFS(Data!$I$7:$I$206,Data!$W$7:$W$206,$P$2,Data!$T$7:$T$206,"",Data!$N$7:$N$206,$J63) -> 64 | M63: =SUMIFS(Data!$P$7:$P$206,Data!$W$7:$W$206,$P$2,Data!$T$7:$T$206,"",Data!$N$7:$N$206,$J63) -> 117 | N63: =SUMIFS(Data!$Z$7:$Z$206,Data!$W$7:$W$206,$P$2,Data!$T$7:$T$206,"",Data!$N$7:$N$206,$J63) -> 1800 | O63: =IFERROR(SUMIFS(Data!$P$7:$P$206,Data!$W$7:$W$206,$P$2,Data!$T$7:$T$206,"",Data!$N$7:$N$206,$J63,Data!$U$7:$U$206,"Đã hoàn thành")/SUMIFS(Data!$O$7:$O$206,Data!$W$7:$W$206,$P$2,Data!$T$7:$T$206,"",Data!$N$7:$N$206,$J63,Data!$U$7:$U$206,"Đã hoàn thành"),"-") -> 0.936 | P63: =IFERROR(AVERAGEIFS(Data!$S$7:$S$206,Data!$W$7:$W$206,$P$2,Data!$T$7:$T$206,"",Data!$N$7:$N$206,$J63),"-") -> 4.225 | Q63: =SUMIFS(Data!$R$7:$R$206,Data!$W$7:$W$206,$P$2,Data!$T$7:$T$206,"",Data!$N$7:$N$206,$J63) -> 54000000
...

Sheet Lịch
D1: LỊCH ĐÀO TẠO THEO QUÝ
D2: ='Cài đặt'!$C$7&" | "&'Cài đặt'!$C$8 -> CÔNG TY CỔ PHẦN DƯỢC PHẨM ABC | Phòng Đào tạo & Phát triển (L&D) | R2: NĂM | T2: 2026 | V2: QUÝ | W2: 4
D3: Thiết kế: Vinh Phan | vinhphan.io.vn | Building Great Teams Through Data & People | R3: ="Hôm nay: "&TEXT(TODAY(),"dd/mm/yyyy") -> Hôm nay: 20/10/2026
B5: Chú thích: | D5: Technical | G5: Soft Skill | J5: Compliance | M5: Leadership | P5: Hội nhập | S5: Nhiều khóa | V5: Hôm nay | Z5: ="DANH SÁCH KHÓA HỌC | QUÝ "&$W$2&" / "&$T$2 -> DANH SÁCH KHÓA HỌC | QUÝ 4 / 2026
B6: =($W$2-1)*3+1 -> 10 | D6: =DATE($T$2,B$6,1)-WEEKDAY(DATE($T$2,B$6,1),2)+1 -> 46293 | J6: =($W$2-1)*3+2 -> 11 | L6: =DATE($T$2,J$6,1)-WEEKDAY(DATE($T$2,J$6,1),2)+1 -> 46321 | R6: =($W$2-1)*3+3 -> 12 | T6: =DATE($T$2,R$6,1)-WEEKDAY(DATE($T$2,R$6,1),2)+1 -> 46356
B7: ="THÁNG "&B6&" / "&$T$2 -> THÁNG 10 / 2026 | J7: ="THÁNG "&J6&" / "&$T$2 -> THÁNG 11 / 2026 | R7: ="THÁNG "&R6&" / "&$T$2 -> THÁNG 12 / 2026 | Z7: # | AA7: Mã | AB7: Tên khóa học | AC7: Loại | AD7: Bắt đầu | AE7: Kết thúc | AF7: Giảng viên | AG7: Đối tượng | AH7: Hình thức | AI7: Trạng thái
B8: T2 | C8: T3 | D8: T4 | E8: T5 | F8: T6 | G8: T7 | H8: CN | J8: T2 | K8: T3 | L8: T4 | M8: T5 | N8: T6 | O8: T7 | P8: CN | R8: T2 | S8: T3 | T8: T4 | U8: T5 | V8: T6 | W8: T7 | X8: CN | Z8: =IF(AA8="","",ROW()-7) -> 1 | AA8: =IFERROR(INDEX(Data!$B$7:$B$206,MATCH(ROW()-7,Data!$X$7:$X$206,0))&"","") -> DT26-030 | AB8: =IFERROR(INDEX(Data!$C$7:$C$206,MATCH(ROW()-7,Data!$X$7:$X$206,0))&"","") -> Chăm sóc khách hàng B2B | AC8: =IFERROR(INDEX(Data!$D$7:$D$206,MATCH(ROW()-7,Data!$X$7:$X$206,0))&"","") -> Soft Skill | AD8: =IFERROR(INDEX(Data!$E$7:$E$206,MATCH(ROW()-7,Data!$X$7:$X$206,0)),"") -> 46300 | AE8: =IFERROR(INDEX(Data!$F$7:$F$206,MATCH(ROW()-7,Data!$X$7:$X$206,0)),"") -> 46300 | AF8: =IFERROR(INDEX(Data!$J$7:$J$206,MATCH(ROW()-7,Data!$X$7:$X$206,0))&"","") -> Nguyễn Văn An | AG8: =IFERROR(INDEX(Data!$N$7:$N$206,MATCH(ROW()-7,Data!$X$7:$X$206,0))&"","") -> Kinh doanh | AH8: =IFERROR(INDEX(Data!$L$7:$L$206,MATCH(ROW()-7,Data!$X$7:$X$206,0))&"","") -> Offline | AI8: =IFERROR(INDEX(Data!$U$7:$U$206,MATCH(ROW()-7,Data!$X$7:$X$206,0))&"","") -> Đã hoàn thành
B9: =$D$6+0 -> 46293 | C9: =$D$6+1 -> 46294 | D9: =$D$6+2 -> 46295 | E9: =$D$6+3 -> 46296 | F9: =$D$6+4 -> 46297 | G9: =$D$6+5 -> 46298 | H9: =$D$6+6 -> 46299 | J9: =$L$6+0 -> 46321 | K9: =$L$6+1 -> 46322 | L9: =$L$6+2 -> 46323 | M9: =$L$6+3 -> 46324 | N9: =$L$6+4 -> 46325 | O9: =$L$6+5 -> 46326 | P9: =$L$6+6 -> 46327 | R9: =$T$6+0 -> 46356 | S9: =$T$6+1 -> 46357 | T9: =$T$6+2 -> 46358 | U9: =$T$6+3 -> 46359 | V9: =$T$6+4 -> 46360 | W9: =$T$6+5 -> 46361 | X9: =$T$6+6 -> 46362 | Z9: =IF(AA9="","",ROW()-7) -> 2 | AA9: =IFERROR(INDEX(Data!$B$7:$B$206,MATCH(ROW()-7,Data!$X$7:$X$206,0))&"","") -> DT26-036 | AB9: =IFERROR(INDEX(Data!$C$7:$C$206,MATCH(ROW()-7,Data!$X$7:$X$206,0))&"","") -> Kỹ năng viết email chuyên nghiệp | AC9: =IFERROR(INDEX(Data!$D$7:$D$206,MATCH(ROW()-7,Data!$X$7:$X$206,0))&"","") -> Soft Skill | AD9: =IFERROR(INDEX(Data!$E$7:$E$206,MATCH(ROW()-7,Data!$X$7:$X$206,0)),"") -> 46314 | AE9: =IFERROR(INDEX(Data!$F$7:$F$206,MATCH(ROW()-7,Data!$X$7:$X$206,0)),"") -> 46316 | AF9: =IFERROR(INDEX(Data!$J$7:$J$206,MATCH(ROW()-7,Data!$X$7:$X$206,0))&"","") -> Võ Minh Đức | AG9: =IFERROR(INDEX(Data!$N$7:$N$206,MATCH(ROW()-7,Data!$X$7:$X$206,0))&"","") -> Toàn công ty | AH9: =IFERROR(INDEX(Data!$L$7:$L$206,MATCH(ROW()-7,Data!$X$7:$X$206,0))&"","") -> Offline | AI9: =IFERROR(INDEX(Data!$U$7:$U$206,MATCH(ROW()-7,Data!$X$7:$X$206,0))&"","") -> Đang diễn ra
B10: =$D$6+7 -> 46300 | C10: =$D$6+8 -> 46301 | D10: =$D$6+9 -> 46302 | E10: =$D$6+10 -> 46303 | F10: =$D$6+11 -> 46304 | G10: =$D$6+12 -> 46305 | H10: =$D$6+13 -> 46306 | J10: =$L$6+7 -> 46328 | K10: =$L$6+8 -> 46329 | L10: =$L$6+9 -> 46330 | M10: =$L$6+10 -> 46331 | N10: =$L$6+11 -> 46332 | O10: =$L$6+12 -> 46333 | P10: =$L$6+13 -> 46334 | R10: =$T$6+7 -> 46363 | S10: =$T$6+8 -> 46364 | T10: =$T$6+9 -> 46365 | U10: =$T$6+10 -> 46366 | V10: =$T$6+11 -> 46367 | W10: =$T$6+12 -> 46368 | X10: =$T$6+13 -> 46369 | Z10: =IF(AA10="","",ROW()-7) -> 3 | AA10: =IFERROR(INDEX(Data!$B$7:$B$206,MATCH(ROW()-7,Data!$X$7:$X$206,0))&"","") -> DT26-031 | AB10: =IFERROR(INDEX(Data!$C$7:$C$206,MATCH(ROW()-7,Data!$X$7:$X$206,0))&"","") -> Thẩm định quy trình & thiết bị | AC10: =IFERROR(INDEX(Data!$D$7:$D$206,MATCH(ROW()-7,Data!$X$7:$X$206,0))&"","") -> Compliance | AD10: =IFERROR(INDEX(Data!$E$7:$E$206,MATCH(ROW()-7,Data!$X$7:$X$206,0)),"") -> 46315 | AE10: =IFERROR(INDEX(Data!$F$7:$F$206,MATCH(ROW()-7,Data!$X$7:$X$206,0)),"") -> 46317 | AF10: =IFERROR(INDEX(Data!$J$7:$J$206,MATCH(ROW()-7,Data!$X$7:$X$206,0))&"","") -> Công ty ABC Training | AG10: =IFERROR(INDEX(Data!$N$7:$N$206,MATCH(ROW()-7,Data!$X$7:$X$206,0))&"","") -> QA/QC | AH10: =IFERROR(INDEX(Data!$L$7:$L$206,MATCH(ROW()-7,Data!$X$7:$X$206,0))&"","") -> Hybrid | AI10: =IFERROR(INDEX(Data!$U$7:$U$206,MATCH(ROW()-7,Data!$X$7:$X$206,0))&"","") -> Hủy
B11: =$D$6+14 -> 46307 | C11: =$D$6+15 -> 46308 | D11: =$D$6+16 -> 46309 | E11: =$D$6+17 -> 46310 | F11: =$D$6+18 -> 46311 | G11: =$D$6+19 -> 46312 | H11: =$D$6+20 -> 46313 | J11: =$L$6+14 -> 46335 | K11: =$L$6+15 -> 46336 | L11: =$L$6+16 -> 46337 | M11: =$L$6+17 -> 46338 | N11: =$L$6+18 -> 46339 | O11: =$L$6+19 -> 46340 | P11: =$L$6+20 -> 46341 | R11: =$T$6+14 -> 46370 | S11: =$T$6+15 -> 46371 | T11: =$T$6+16 -> 46372 | U11: =$T$6+17 -> 46373 | V11: =$T$6+18 -> 46374 | W11: =$T$6+19 -> 46375 | X11: =$T$6+20 -> 46376 | Z11: =IF(AA11="","",ROW()-7) -> 4 | AA11: =IFERROR(INDEX(Data!$B$7:$B$206,MATCH(ROW()-7,Data!$X$7:$X$206,0))&"","") -> DT26-032 | AB11: =IFERROR(INDEX(Data!$C$7:$C$206,MATCH(ROW()-7,Data!$X$7:$X$206,0))&"","") -> Kỹ năng phỏng vấn cho Hiring Manager | AC11: =IFERROR(INDEX(Data!$D$7:$D$206,MATCH(ROW()-7,Data!$X$7:$X$206,0))&"","") -> Leadership | AD11: =IFERROR(INDEX(Data!$E$7:$E$206,MATCH(ROW()-7,Data!$X$7:$X$206,0)),"") -> 46316 | AE11: =IFERROR(INDEX(Data!$F$7:$F$206,MATCH(ROW()-7,Data!$X$7:$X$206,0)),"") -> 46316 | AF11: =IFERROR(INDEX(Data!$J$7:$J$206,MATCH(ROW()-7,Data!$X$7:$X$206,0))&"","") -> Nguyễn Văn An | AG11: =IFERROR(INDEX(Data!$N$7:$N$206,MATCH(ROW()-7,Data!$X$7:$X$206,0))&"","") -> Toàn công ty | AH11: =IFERROR(INDEX(Data!$L$7:$L$206,MATCH(ROW()-7,Data!$X$7:$X$206,0))&"","") -> Offline | AI11: =IFERROR(INDEX(Data!$U$7:$U$206,MATCH(ROW()-7,Data!$X$7:$X$206,0))&"","") -> Sắp diễn ra
B12: =$D$6+21 -> 46314 | C12: =$D$6+22 -> 46315 | D12: =$D$6+23 -> 46316 | E12: =$D$6+24 -> 46317 | F12: =$D$6+25 -> 46318 | G12: =$D$6+26 -> 46319 | H12: =$D$6+27 -> 46320 | J12: =$L$6+21 -> 46342 | K12: =$L$6+22 -> 46343 | L12: =$L$6+23 -> 46344 | M12: =$L$6+24 -> 46345 | N12: =$L$6+25 -> 46346 | O12: =$L$6+26 -> 46347 | P12: =$L$6+27 -> 46348 | R12: =$T$6+21 -> 46377 | S12: =$T$6+22 -> 46378 | T12: =$T$6+23 -> 46379 | U12: =$T$6+24 -> 46380 | V12: =$T$6+25 -> 46381 | W12: =$T$6+26 -> 46382 | X12: =$T$6+27 -> 46383 | Z12: =IF(AA12="","",ROW()-7) -> 5 | AA12: =IFERROR(INDEX(Data!$B$7:$B$206,MATCH(ROW()-7,Data!$X$7:$X$206,0))&"","") -> DT26-033 | AB12: =IFERROR(INDEX(Data!$C$7:$C$206,MATCH(ROW()-7,Data!$X$7:$X$206,0))&"","") -> An toàn hóa chất phòng thí nghiệm | AC12: =IFERROR(INDEX(Data!$D$7:$D$206,MATCH(ROW()-7,Data!$X$7:$X$206,0))&"","") -> Compliance | AD12: =IFERROR(INDEX(Data!$E$7:$E$206,MATCH(ROW()-7,Data!$X$7:$X$206,0)),"") -> 46316 | AE12: =IFERROR(INDEX(Data!$F$7:$F$206,MATCH(ROW()-7,Data!$X$7:$X$206,0)),"") -> 46316 | AF12: =IFERROR(INDEX(Data!$J$7:$J$206,MATCH(ROW()-7,Data!$X$7:$X$206,0))&"","") -> Võ Minh Đức | AG12: =IFERROR(INDEX(Data!$N$7:$N$206,MATCH(ROW()-7,Data!$X$7:$X$206,0))&"","") -> QA/QC | AH12: =IFERROR(INDEX(Data!$L$7:$L$206,MATCH(ROW()-7,Data!$X$7:$X$206,0))&"","") -> Offline | AI12: =IFERROR(INDEX(Data!$U$7:$U$206,MATCH(ROW()-7,Data!$X$7:$X$206,0))&"","") -> Sắp diễn ra
B13: =$D$6+28 -> 46321 | C13: =$D$6+29 -> 46322 | D13: =$D$6+30 -> 46323 | E13: =$D$6+31 -> 46324 | F13: =$D$6+32 -> 46325 | G13: =$D$6+33 -> 46326 | H13: =$D$6+34 -> 46327 | J13: =$L$6+28 -> 46349 | K13: =$L$6+29 -> 46350 | L13: =$L$6+30 -> 46351 | M13: =$L$6+31 -> 46352 | N13: =$L$6+32 -> 46353 | O13: =$L$6+33 -> 46354 | P13: =$L$6+34 -> 46355 | R13: =$T$6+28 -> 46384 | S13: =$T$6+29 -> 46385 | T13: =$T$6+30 -> 46386 | U13: =$T$6+31 -> 46387 | V13: =$T$6+32 -> 46388 | W13: =$T$6+33 -> 46389 | X13: =$T$6+34 -> 46390 | Z13: =IF(AA13="","",ROW()-7) -> 6 | AA13: =IFERROR(INDEX(Data!$B$7:$B$206,MATCH(ROW()-7,Data!$X$7:$X$206,0))&"","") -> DT26-034 | AB13: =IFERROR(INDEX(Data!$C$7:$C$206,MATCH(ROW()-7,Data!$X$7:$X$206,0))&"","") -> Hội nhập nhân viên mới – Đợt 5 | AC13: =IFERROR(INDEX(Data!$D$7:$D$206,MATCH(ROW()-7,Data!$X$7:$X$206,0))&"","") -> Hội nhập | AD13: =IFERROR(INDEX(Data!$E$7:$E$206,MATCH(ROW()-7,Data!$X$7:$X$206,0)),"") -> 46351 | AE13: =IFERROR(INDEX(Data!$F$7:$F$206,MATCH(ROW()-7,Data!$X$7:$X$206,0)),"") -> 46351 | AF13: =IFERROR(INDEX(Data!$J$7:$J$206,MATCH(ROW()-7,Data!$X$7:$X$206,0))&"","") -> Võ Minh Đức | AG13: =IFERROR(INDEX(Data!$N$7:$N$206,MATCH(ROW()-7,Data!$X$7:$X$206,0))&"","") -> Toàn công ty | AH13: =IFERROR(INDEX(Data!$L$7:$L$206,MATCH(ROW()-7,Data!$X$7:$X$206,0))&"","") -> Hybrid | AI13: =IFERROR(INDEX(Data!$U$7:$U$206,MATCH(ROW()-7,Data!$X$7:$X$206,0))&"","") -> Sắp diễn ra
B14: =$D$6+35 -> 46328 | C14: =$D$6+36 -> 46329 | D14: =$D$6+37 -> 46330 | E14: =$D$6+38 -> 46331 | F14: =$D$6+39 -> 46332 | G14: =$D$6+40 -> 46333 | H14: =$D$6+41 -> 46334 | J14: =$L$6+35 -> 46356 | K14: =$L$6+36 -> 46357 | L14: =$L$6+37 -> 46358 | M14: =$L$6+38 -> 46359 | N14: =$L$6+39 -> 46360 | O14: =$L$6+40 -> 46361 | P14: =$L$6+41 -> 46362 | R14: =$T$6+35 -> 46391 | S14: =$T$6+36 -> 46392 | T14: =$T$6+37 -> 46393 | U14: =$T$6+38 -> 46394 | V14: =$T$6+39 -> 46395 | W14: =$T$6+40 -> 46396 | X14: =$T$6+41 -> 46397 | Z14: =IF(AA14="","",ROW()-7) -> 7 | AA14: =IFERROR(INDEX(Data!$B$7:$B$206,MATCH(ROW()-7,Data!$X$7:$X$206,0))&"","") -> DT26-035 | AB14: =IFERROR(INDEX(Data!$C$7:$C$206,MATCH(ROW()-7,Data!$X$7:$X$206,0))&"","") -> Quản lý dự án Agile | AC14: =IFERROR(INDEX(Data!$D$7:$D$206,MATCH(ROW()-7,Data!$X$7:$X$206,0))&"","") -> Technical | AD14: =IFERROR(INDEX(Data!$E$7:$E$206,MATCH(ROW()-7,Data!$X$7:$X$206,0)),"") -> 46351 | AE14: =IFERROR(INDEX(Data!$F$7:$F$206,MATCH(ROW()-7,Data!$X$7:$X$206,0)),"") -> 46351 | AF14: =IFERROR(INDEX(Data!$J$7:$J$206,MATCH(ROW()-7,Data!$X$7:$X$206,0))&"","") -> Viện Kiểm nghiệm | AG14: =IFERROR(INDEX(Data!$N$7:$N$206,MATCH(ROW()-7,Data!$X$7:$X$206,0))&"","") -> IT | AH14: =IFERROR(INDEX(Data!$L$7:$L$206,MATCH(ROW()-7,Data!$X$7:$X$206,0))&"","") -> Offline | AI14: =IFERROR(INDEX(Data!$U$7:$U$206,MATCH(ROW()-7,Data!$X$7:$X$206,0))&"","") -> Sắp diễn ra
Z15: =IF(AA15="","",ROW()-7) -> 8 | AA15: =IFERROR(INDEX(Data!$B$7:$B$206,MATCH(ROW()-7,Data!$X$7:$X$206,0))&"","") -> DT26-037 | AB15: =IFERROR(INDEX(Data!$C$7:$C$206,MATCH(ROW()-7,Data!$X$7:$X$206,0))&"","") -> Tổng kết & lập kế hoạch đào tạo 2027 | AC15: =IFERROR(INDEX(Data!$D$7:$D$206,MATCH(ROW()-7,Data!$X$7:$X$206,0))&"","") -> Leadership | AD15: =IFERROR(INDEX(Data!$E$7:$E$206,MATCH(ROW()-7,Data!$X$7:$X$206,0)),"") -> 46365 | AE15: =IFERROR(INDEX(Data!$F$7:$F$206,MATCH(ROW()-7,Data!$X$7:$X$206,0)),"") -> 46365 | AF15: =IFERROR(INDEX(Data!$J$7:$J$206,MATCH(ROW()-7,Data!$X$7:$X$206,0))&"","") -> Trần Thị Bình | AG15: =IFERROR(INDEX(Data!$N$7:$N$206,MATCH(ROW()-7,Data!$X$7:$X$206,0))&"","") -> Ban Giám đốc | AH15: =IFERROR(INDEX(Data!$L$7:$L$206,MATCH(ROW()-7,Data!$X$7:$X$206,0))&"","") -> Offline | AI15: =IFERROR(INDEX(Data!$U$7:$U$206,MATCH(ROW()-7,Data!$X$7:$X$206,0))&"","") -> Sắp diễn ra
B16: ="TỔNG QUAN QUÝ "&$W$2&" / "&$T$2 -> TỔNG QUAN QUÝ 4 / 2026 | Z16: =IF(AA16="","",ROW()-7) -> 9 | AA16: =IFERROR(INDEX(Data!$B$7:$B$206,MATCH(ROW()-7,Data!$X$7:$X$206,0))&"","") -> DT26-038 | AB16: =IFERROR(INDEX(Data!$C$7:$C$206,MATCH(ROW()-7,Data!$X$7:$X$206,0))&"","") -> Phân tích tài chính cho quản lý | AC16: =IFERROR(INDEX(Data!$D$7:$D$206,MATCH(ROW()-7,Data!$X$7:$X$206,0))&"","") -> Technical | AD16: =IFERROR(INDEX(Data!$E$7:$E$206,MATCH(ROW()-7,Data!$X$7:$X$206,0)),"") -> 46384 | AE16: =IFERROR(INDEX(Data!$F$7:$F$206,MATCH(ROW()-7,Data!$X$7:$X$206,0)),"") -> 46385 | AF16: =IFERROR(INDEX(Data!$J$7:$J$206,MATCH(ROW()-7,Data!$X$7:$X$206,0))&"","") -> Công ty ABC Training | AG16: =IFERROR(INDEX(Data!$N$7:$N$206,MATCH(ROW()-7,Data!$X$7:$X$206,0))&"","") -> Ban Giám đốc | AH16: =IFERROR(INDEX(Data!$L$7:$L$206,MATCH(ROW()-7,Data!$X$7:$X$206,0))&"","") -> Hybrid | AI16: =IFERROR(INDEX(Data!$U$7:$U$206,MATCH(ROW()-7,Data!$X$7:$X$206,0))&"","") -> Sắp diễn ra
B17: SỐ KHÓA HỌC | H17: TỔNG GIỜ ĐÀO TẠO | N17: LƯỢT HỌC VIÊN | T17: CHI PHÍ (triệu đ) | Z17: =IF(AA17="","",ROW()-7) | AA17: =IFERROR(INDEX(Data!$B$7:$B$206,MATCH(ROW()-7,Data!$X$7:$X$206,0))&"","") | AB17: =IFERROR(INDEX(Data!$C$7:$C$206,MATCH(ROW()-7,Data!$X$7:$X$206,0))&"","") | AC17: =IFERROR(INDEX(Data!$D$7:$D$206,MATCH(ROW()-7,Data!$X$7:$X$206,0))&"","") | AD17: =IFERROR(INDEX(Data!$E$7:$E$206,MATCH(ROW()-7,Data!$X$7:$X$206,0)),"") | AE17: =IFERROR(INDEX(Data!$F$7:$F$206,MATCH(ROW()-7,Data!$X$7:$X$206,0)),"") | AF17: =IFERROR(INDEX(Data!$J$7:$J$206,MATCH(ROW()-7,Data!$X$7:$X$206,0))&"","") | AG17: =IFERROR(INDEX(Data!$N$7:$N$206,MATCH(ROW()-7,Data!$X$7:$X$206,0))&"","") | AH17: =IFERROR(INDEX(Data!$L$7:$L$206,MATCH(ROW()-7,Data!$X$7:$X$206,0))&"","") | AI17: =IFERROR(INDEX(Data!$U$7:$U$206,MATCH(ROW()-7,Data!$X$7:$X$206,0))&"","")
B18: =COUNTIFS(Data!$W$7:$W$206,$T$2,Data!$V$7:$V$206,"Q"&$W$2,Data!$T$7:$T$206,"") -> 8 | H18: =SUMIFS(Data!$I$7:$I$206,Data!$W$7:$W$206,$T$2,Data!$V$7:$V$206,"Q"&$W$2,Data!$T$7:$T$206,"") -> 56 | N18: =SUMIFS(Data!$P$7:$P$206,Data!$W$7:$W$206,$T$2,Data!$V$7:$V$206,"Q"&$W$2,Data!$T$7:$T$206,"") -> 24 | T18: =SUMIFS(Data!$R$7:$R$206,Data!$W$7:$W$206,$T$2,Data!$V$7:$V$206,"Q"&$W$2,Data!$T$7:$T$206,"") -> 48000000 | Z18: =IF(AA18="","",ROW()-7) | AA18: =IFERROR(INDEX(Data!$B$7:$B$206,MATCH(ROW()-7,Data!$X$7:$X$206,0))&"","") | AB18: =IFERROR(INDEX(Data!$C$7:$C$206,MATCH(ROW()-7,Data!$X$7:$X$206,0))&"","") | AC18: =IFERROR(INDEX(Data!$D$7:$D$206,MATCH(ROW()-7,Data!$X$7:$X$206,0))&"","") | AD18: =IFERROR(INDEX(Data!$E$7:$E$206,MATCH(ROW()-7,Data!$X$7:$X$206,0)),"") | AE18: =IFERROR(INDEX(Data!$F$7:$F$206,MATCH(ROW()-7,Data!$X$7:$X$206,0)),"") | AF18: =IFERROR(INDEX(Data!$J$7:$J$206,MATCH(ROW()-7,Data!$X$7:$X$206,0))&"","") | AG18: =IFERROR(INDEX(Data!$N$7:$N$206,MATCH(ROW()-7,Data!$X$7:$X$206,0))&"","") | AH18: =IFERROR(INDEX(Data!$L$7:$L$206,MATCH(ROW()-7,Data!$X$7:$X$206,0))&"","") | AI18: =IFERROR(INDEX(Data!$U$7:$U$206,MATCH(ROW()-7,Data!$X$7:$X$206,0))&"","")
B19: ="Hoàn thành "&COUNTIFS(Data!$W$7:$W$206,$T$2,Data!$V$7:$V$206,"Q"&$W$2,Data!$T$7:$T$206,"",Data!$U$7:$U$206,"Đã hoàn thành")&" | Hủy/Hoãn "&COUNTIFS(Data!$W$7:$W$206,$T$2,Data!$V$7:$V$206,"Q"&$W$2,Data!$T$7:$T$206,"<>") -> Hoàn thành 1 | Hủy/Hoãn 1 | H19: ="Giờ-người: "&TEXT(SUMIFS(Data!$Z$7:$Z$206,Data!$W$7:$W$206,$T$2,Data!$V$7:$V$206,"Q"&$W$2,Data!$T$7:$T$206,""),"#,##0") -> Giờ-người: 96 | N19: ="Kế hoạch: "&TEXT(SUMIFS(Data!$O$7:$O$206,Data!$W$7:$W$206,$T$2,Data!$V$7:$V$206,"Q"&$W$2,Data!$T$7:$T$206,""),"#,##0")&" lượt" -> Kế hoạch: 192 lượt | T19: ="Thuê ngoài: "&TEXT(SUMIFS(Data!$R$7:$R$206,Data!$W$7:$W$206,$T$2,Data!$V$7:$V$206,"Q"&$W$2,Data!$T$7:$T$206,"",Data!$K$7:$K$206,"Thuê ngoài")/1000000,"#,##0.0")&" tr" -> Thuê ngoài: 47.0 tr | Z19: =IF(AA19="","",ROW()-7) | AA19: =IFERROR(INDEX(Data!$B$7:$B$206,MATCH(ROW()-7,Data!$X$7:$X$206,0))&"","") | AB19: =IFERROR(INDEX(Data!$C$7:$C$206,MATCH(ROW()-7,Data!$X$7:$X$206,0))&"","") | AC19: =IFERROR(INDEX(Data!$D$7:$D$206,MATCH(ROW()-7,Data!$X$7:$X$206,0))&"","") | AD19: =IFERROR(INDEX(Data!$E$7:$E$206,MATCH(ROW()-7,Data!$X$7:$X$206,0)),"") | AE19: =IFERROR(INDEX(Data!$F$7:$F$206,MATCH(ROW()-7,Data!$X$7:$X$206,0)),"") | AF19: =IFERROR(INDEX(Data!$J$7:$J$206,MATCH(ROW()-7,Data!$X$7:$X$206,0))&"","") | AG19: =IFERROR(INDEX(Data!$N$7:$N$206,MATCH(ROW()-7,Data!$X$7:$X$206,0))&"","") | AH19: =IFERROR(INDEX(Data!$L$7:$L$206,MATCH(ROW()-7,Data!$X$7:$X$206,0))&"","") | AI19: =IFERROR(INDEX(Data!$U$7:$U$206,MATCH(ROW()-7,Data!$X$7:$X$206,0))&"","")
Z20: =IF(AA20="","",ROW()-7) | AA20: =IFERROR(INDEX(Data!$B$7:$B$206,MATCH(ROW()-7,Data!$X$7:$X$206,0))&"","") | AB20: =IFERROR(INDEX(Data!$C$7:$C$206,MATCH(ROW()-7,Data!$X$7:$X$206,0))&"","") | AC20: =IFERROR(INDEX(Data!$D$7:$D$206,MATCH(ROW()-7,Data!$X$7:$X$206,0))&"","") | AD20: =IFERROR(INDEX(Data!$E$7:$E$206,MATCH(ROW()-7,Data!$X$7:$X$206,0)),"") | AE20: =IFERROR(INDEX(Data!$F$7:$F$206,MATCH(ROW()-7,Data!$X$7:$X$206,0)),"") | AF20: =IFERROR(INDEX(Data!$J$7:$J$206,MATCH(ROW()-7,Data!$X$7:$X$206,0))&"","") | AG20: =IFERROR(INDEX(Data!$N$7:$N$206,MATCH(ROW()-7,Data!$X$7:$X$206,0))&"","") | AH20: =IFERROR(INDEX(Data!$L$7:$L$206,MATCH(ROW()-7,Data!$X$7:$X$206,0))&"","") | AI20: =IFERROR(INDEX(Data!$U$7:$U$206,MATCH(ROW()-7,Data!$X$7:$X$206,0))&"","")
B21: TỶ LỆ THAM DỰ | H21: ĐIỂM HÀI LÒNG TB | N21: ĐANG / SẮP DIỄN RA | T21: SỐ NGÀY CÓ ĐÀO TẠO | Z21: =IF(AA21="","",ROW()-7) | AA21: =IFERROR(INDEX(Data!$B$7:$B$206,MATCH(ROW()-7,Data!$X$7:$X$206,0))&"","") | AB21: =IFERROR(INDEX(Data!$C$7:$C$206,MATCH(ROW()-7,Data!$X$7:$X$206,0))&"","") | AC21: =IFERROR(INDEX(Data!$D$7:$D$206,MATCH(ROW()-7,Data!$X$7:$X$206,0))&"","") | AD21: =IFERROR(INDEX(Data!$E$7:$E$206,MATCH(ROW()-7,Data!$X$7:$X$206,0)),"") | AE21: =IFERROR(INDEX(Data!$F$7:$F$206,MATCH(ROW()-7,Data!$X$7:$X$206,0)),"") | AF21: =IFERROR(INDEX(Data!$J$7:$J$206,MATCH(ROW()-7,Data!$X$7:$X$206,0))&"","") | AG21: =IFERROR(INDEX(Data!$N$7:$N$206,MATCH(ROW()-7,Data!$X$7:$X$206,0))&"","") | AH21: =IFERROR(INDEX(Data!$L$7:$L$206,MATCH(ROW()-7,Data!$X$7:$X$206,0))&"","") | AI21: =IFERROR(INDEX(Data!$U$7:$U$206,MATCH(ROW()-7,Data!$X$7:$X$206,0))&"","")
B22: =IFERROR(SUMIFS(Data!$P$7:$P$206,Data!$W$7:$W$206,$T$2,Data!$V$7:$V$206,"Q"&$W$2,Data!$T$7:$T$206,"",Data!$U$7:$U$206,"Đã hoàn thành")/SUMIFS(Data!$O$7:$O$206,Data!$W$7:$W$206,$T$2,Data!$V$7:$V$206,"Q"&$W$2,Data!$T$7:$T$206,"",Data!$U$7:$U$206,"Đã hoàn thành"),"-") -> 0.96 | H22: =IFERROR(AVERAGEIFS(Data!$S$7:$S$206,Data!$W$7:$W$206,$T$2,Data!$V$7:$V$206,"Q"&$W$2,Data!$T$7:$T$206,""),"-") -> 4.2 | N22: =COUNTIFS(Data!$W$7:$W$206,$T$2,Data!$V$7:$V$206,"Q"&$W$2,Data!$T$7:$T$206,"",Data!$U$7:$U$206,"Đang diễn ra")+COUNTIFS(Data!$W$7:$W$206,$T$2,Data!$V$7:$V$206,"Q"&$W$2,Data!$T$7:$T$206,"",Data!$U$7:$U$206,"Sắp diễn ra") -> 7 | T22: =SUMIFS(Data!$G$7:$G$206,Data!$W$7:$W$206,$T$2,Data!$V$7:$V$206,"Q"&$W$2,Data!$T$7:$T$206,"") -> 11 | Z22: =IF(AA22="","",ROW()-7) | AA22: =IFERROR(INDEX(Data!$B$7:$B$206,MATCH(ROW()-7,Data!$X$7:$X$206,0))&"","") | AB22: =IFERROR(INDEX(Data!$C$7:$C$206,MATCH(ROW()-7,Data!$X$7:$X$206,0))&"","") | AC22: =IFERROR(INDEX(Data!$D$7:$D$206,MATCH(ROW()-7,Data!$X$7:$X$206,0))&"","") | AD22: =IFERROR(INDEX(Data!$E$7:$E$206,MATCH(ROW()-7,Data!$X$7:$X$206,0)),"") | AE22: =IFERROR(INDEX(Data!$F$7:$F$206,MATCH(ROW()-7,Data!$X$7:$X$206,0)),"") | AF22: =IFERROR(INDEX(Data!$J$7:$J$206,MATCH(ROW()-7,Data!$X$7:$X$206,0))&"","") | AG22: =IFERROR(INDEX(Data!$N$7:$N$206,MATCH(ROW()-7,Data!$X$7:$X$206,0))&"","") | AH22: =IFERROR(INDEX(Data!$L$7:$L$206,MATCH(ROW()-7,Data!$X$7:$X$206,0))&"","") | AI22: =IFERROR(INDEX(Data!$U$7:$U$206,MATCH(ROW()-7,Data!$X$7:$X$206,0))&"","")
B23: ="Mục tiêu: "&TEXT('Cài đặt'!$C$14,"0%") -> Mục tiêu: 90% | H23: ="Mục tiêu: "&TEXT('Cài đặt'!$C$15,"0.0")&" / 5" -> Mục tiêu: 4.2 / 5 | N23: ="Đang diễn ra: "&COUNTIFS(Data!$W$7:$W$206,$T$2,Data!$V$7:$V$206,"Q"&$W$2,Data!$T$7:$T$206,"",Data!$U$7:$U$206,"Đang diễn ra")&" khóa" -> Đang diễn ra: 1 khóa | T23: ="ngày làm việc trong quý" -> ngày làm việc trong quý | Z23: =IF(AA23="","",ROW()-7) | AA23: =IFERROR(INDEX(Data!$B$7:$B$206,MATCH(ROW()-7,Data!$X$7:$X$206,0))&"","") | AB23: =IFERROR(INDEX(Data!$C$7:$C$206,MATCH(ROW()-7,Data!$X$7:$X$206,0))&"","") | AC23: =IFERROR(INDEX(Data!$D$7:$D$206,MATCH(ROW()-7,Data!$X$7:$X$206,0))&"","") | AD23: =IFERROR(INDEX(Data!$E$7:$E$206,MATCH(ROW()-7,Data!$X$7:$X$206,0)),"") | AE23: =IFERROR(INDEX(Data!$F$7:$F$206,MATCH(ROW()-7,Data!$X$7:$X$206,0)),"") | AF23: =IFERROR(INDEX(Data!$J$7:$J$206,MATCH(ROW()-7,Data!$X$7:$X$206,0))&"","") | AG23: =IFERROR(INDEX(Data!$N$7:$N$206,MATCH(ROW()-7,Data!$X$7:$X$206,0))&"","") | AH23: =IFERROR(INDEX(Data!$L$7:$L$206,MATCH(ROW()-7,Data!$X$7:$X$206,0))&"","") | AI23: =IFERROR(INDEX(Data!$U$7:$U$206,MATCH(ROW()-7,Data!$X$7:$X$206,0))&"","")
Z24: =IF(AA24="","",ROW()-7) | AA24: =IFERROR(INDEX(Data!$B$7:$B$206,MATCH(ROW()-7,Data!$X$7:$X$206,0))&"","") | AB24: =IFERROR(INDEX(Data!$C$7:$C$206,MATCH(ROW()-7,Data!$X$7:$X$206,0))&"","") | AC24: =IFERROR(INDEX(Data!$D$7:$D$206,MATCH(ROW()-7,Data!$X$7:$X$206,0))&"","") | AD24: =IFERROR(INDEX(Data!$E$7:$E$206,MATCH(ROW()-7,Data!$X$7:$X$206,0)),"") | AE24: =IFERROR(INDEX(Data!$F$7:$F$206,MATCH(ROW()-7,Data!$X$7:$X$206,0)),"") | AF24: =IFERROR(INDEX(Data!$J$7:$J$206,MATCH(ROW()-7,Data!$X$7:$X$206,0))&"","") | AG24: =IFERROR(INDEX(Data!$N$7:$N$206,MATCH(ROW()-7,Data!$X$7:$X$206,0))&"","") | AH24: =IFERROR(INDEX(Data!$L$7:$L$206,MATCH(ROW()-7,Data!$X$7:$X$206,0))&"","") | AI24: =IFERROR(INDEX(Data!$U$7:$U$206,MATCH(ROW()-7,Data!$X$7:$X$206,0))&"","")
B25: Thiết kế: Vinh Phan | vinhphan.io.vn | Building Great Teams Through Data & People | Z25: =IF(AA25="","",ROW()-7) | AA25: =IFERROR(INDEX(Data!$B$7:$B$206,MATCH(ROW()-7,Data!$X$7:$X$206,0))&"","") | AB25: =IFERROR(INDEX(Data!$C$7:$C$206,MATCH(ROW()-7,Data!$X$7:$X$206,0))&"","") | AC25: =IFERROR(INDEX(Data!$D$7:$D$206,MATCH(ROW()-7,Data!$X$7:$X$206,0))&"","") | AD25: =IFERROR(INDEX(Data!$E$7:$E$206,MATCH(ROW()-7,Data!$X$7:$X$206,0)),"") | AE25: =IFERROR(INDEX(Data!$F$7:$F$206,MATCH(ROW()-7,Data!$X$7:$X$206,0)),"") | AF25: =IFERROR(INDEX(Data!$J$7:$J$206,MATCH(ROW()-7,Data!$X$7:$X$206,0))&"","") | AG25: =IFERROR(INDEX(Data!$N$7:$N$206,MATCH(ROW()-7,Data!$X$7:$X$206,0))&"","") | AH25: =IFERROR(INDEX(Data!$L$7:$L$206,MATCH(ROW()-7,Data!$X$7:$X$206,0))&"","") | AI25: =IFERROR(INDEX(Data!$U$7:$U$206,MATCH(ROW()-7,Data!$X$7:$X$206,0))&"","")
Z26: =IF(AA26="","",ROW()-7) | AA26: =IFERROR(INDEX(Data!$B$7:$B$206,MATCH(ROW()-7,Data!$X$7:$X$206,0))&"","") | AB26: =IFERROR(INDEX(Data!$C$7:$C$206,MATCH(ROW()-7,Data!$X$7:$X$206,0))&"","") | AC26: =IFERROR(INDEX(Data!$D$7:$D$206,MATCH(ROW()-7,Data!$X$7:$X$206,0))&"","") | AD26: =IFERROR(INDEX(Data!$E$7:$E$206,MATCH(ROW()-7,Data!$X$7:$X$206,0)),"") | AE26: =IFERROR(INDEX(Data!$F$7:$F$206,MATCH(ROW()-7,Data!$X$7:$X$206,0)),"") | AF26: =IFERROR(INDEX(Data!$J$7:$J$206,MATCH(ROW()-7,Data!$X$7:$X$206,0))&"","") | AG26: =IFERROR(INDEX(Data!$N$7:$N$206,MATCH(ROW()-7,Data!$X$7:$X$206,0))&"","") | AH26: =IFERROR(INDEX(Data!$L$7:$L$206,MATCH(ROW()-7,Data!$X$7:$X$206,0))&"","") | AI26: =IFERROR(INDEX(Data!$U$7:$U$206,MATCH(ROW()-7,Data!$X$7:$X$206,0))&"","")
Z27: =IF(AA27="","",ROW()-7) | AA27: =IFERROR(INDEX(Data!$B$7:$B$206,MATCH(ROW()-7,Data!$X$7:$X$206,0))&"","") | AB27: =IFERROR(INDEX(Data!$C$7:$C$206,MATCH(ROW()-7,Data!$X$7:$X$206,0))&"","") | AC27: =IFERROR(INDEX(Data!$D$7:$D$206,MATCH(ROW()-7,Data!$X$7:$X$206,0))&"","") | AD27: =IFERROR(INDEX(Data!$E$7:$E$206,MATCH(ROW()-7,Data!$X$7:$X$206,0)),"") | AE27: =IFERROR(INDEX(Data!$F$7:$F$206,MATCH(ROW()-7,Data!$X$7:$X$206,0)),"") | AF27: =IFERROR(INDEX(Data!$J$7:$J$206,MATCH(ROW()-7,Data!$X$7:$X$206,0))&"","") | AG27: =IFERROR(INDEX(Data!$N$7:$N$206,MATCH(ROW()-7,Data!$X$7:$X$206,0))&"","") | AH27: =IFERROR(INDEX(Data!$L$7:$L$206,MATCH(ROW()-7,Data!$X$7:$X$206,0))&"","") | AI27: =IFERROR(INDEX(Data!$U$7:$U$206,MATCH(ROW()-7,Data!$X$7:$X$206,0))&"","")
Z28: =IF(AA28="","",ROW()-7) | AA28: =IFERROR(INDEX(Data!$B$7:$B$206,MATCH(ROW()-7,Data!$X$7:$X$206,0))&"","") | AB28: =IFERROR(INDEX(Data!$C$7:$C$206,MATCH(ROW()-7,Data!$X$7:$X$206,0))&"","") | AC28: =IFERROR(INDEX(Data!$D$7:$D$206,MATCH(ROW()-7,Data!$X$7:$X$206,0))&"","") | AD28: =IFERROR(INDEX(Data!$E$7:$E$206,MATCH(ROW()-7,Data!$X$7:$X$206,0)),"") | AE28: =IFERROR(INDEX(Data!$F$7:$F$206,MATCH(ROW()-7,Data!$X$7:$X$206,0)),"") | AF28: =IFERROR(INDEX(Data!$J$7:$J$206,MATCH(ROW()-7,Data!$X$7:$X$206,0))&"","") | AG28: =IFERROR(INDEX(Data!$N$7:$N$206,MATCH(ROW()-7,Data!$X$7:$X$206,0))&"","") | AH28: =IFERROR(INDEX(Data!$L$7:$L$206,MATCH(ROW()-7,Data!$X$7:$X$206,0))&"","") | AI28: =IFERROR(INDEX(Data!$U$7:$U$206,MATCH(ROW()-7,Data!$X$7:$X$206,0))&"","")
Z29: =IF(AA29="","",ROW()-7) | AA29: =IFERROR(INDEX(Data!$B$7:$B$206,MATCH(ROW()-7,Data!$X$7:$X$206,0))&"","") | AB29: =IFERROR(INDEX(Data!$C$7:$C$206,MATCH(ROW()-7,Data!$X$7:$X$206,0))&"","") | AC29: =IFERROR(INDEX(Data!$D$7:$D$206,MATCH(ROW()-7,Data!$X$7:$X$206,0))&"","") | AD29: =IFERROR(INDEX(Data!$E$7:$E$206,MATCH(ROW()-7,Data!$X$7:$X$206,0)),"") | AE29: =IFERROR(INDEX(Data!$F$7:$F$206,MATCH(ROW()-7,Data!$X$7:$X$206,0)),"") | AF29: =IFERROR(INDEX(Data!$J$7:$J$206,MATCH(ROW()-7,Data!$X$7:$X$206,0))&"","") | AG29: =IFERROR(INDEX(Data!$N$7:$N$206,MATCH(ROW()-7,Data!$X$7:$X$206,0))&"","") | AH29: =IFERROR(INDEX(Data!$L$7:$L$206,MATCH(ROW()-7,Data!$X$7:$X$206,0))&"","") | AI29: =IFERROR(INDEX(Data!$U$7:$U$206,MATCH(ROW()-7,Data!$X$7:$X$206,0))&"","")
Z30: =IF(AA30="","",ROW()-7) | AA30: =IFERROR(INDEX(Data!$B$7:$B$206,MATCH(ROW()-7,Data!$X$7:$X$206,0))&"","") | AB30: =IFERROR(INDEX(Data!$C$7:$C$206,MATCH(ROW()-7,Data!$X$7:$X$206,0))&"","") | AC30: =IFERROR(INDEX(Data!$D$7:$D$206,MATCH(ROW()-7,Data!$X$7:$X$206,0))&"","") | AD30: =IFERROR(INDEX(Data!$E$7:$E$206,MATCH(ROW()-7,Data!$X$7:$X$206,0)),"") | AE30: =IFERROR(INDEX(Data!$F$7:$F$206,MATCH(ROW()-7,Data!$X$7:$X$206,0)),"") | AF30: =IFERROR(INDEX(Data!$J$7:$J$206,MATCH(ROW()-7,Data!$X$7:$X$206,0))&"","") | AG30: =IFERROR(INDEX(Data!$N$7:$N$206,MATCH(ROW()-7,Data!$X$7:$X$206,0))&"","") | AH30: =IFERROR(INDEX(Data!$L$7:$L$206,MATCH(ROW()-7,Data!$X$7:$X$206,0))&"","") | AI30: =IFERROR(INDEX(Data!$U$7:$U$206,MATCH(ROW()-7,Data!$X$7:$X$206,0))&"","")
Z31: =IF(AA31="","",ROW()-7) | AA31: =IFERROR(INDEX(Data!$B$7:$B$206,MATCH(ROW()-7,Data!$X$7:$X$206,0))&"","") | AB31: =IFERROR(INDEX(Data!$C$7:$C$206,MATCH(ROW()-7,Data!$X$7:$X$206,0))&"","") | AC31: =IFERROR(INDEX(Data!$D$7:$D$206,MATCH(ROW()-7,Data!$X$7:$X$206,0))&"","") | AD31: =IFERROR(INDEX(Data!$E$7:$E$206,MATCH(ROW()-7,Data!$X$7:$X$206,0)),"") | AE31: =IFERROR(INDEX(Data!$F$7:$F$206,MATCH(ROW()-7,Data!$X$7:$X$206,0)),"") | AF31: =IFERROR(INDEX(Data!$J$7:$J$206,MATCH(ROW()-7,Data!$X$7:$X$206,0))&"","") | AG31: =IFERROR(INDEX(Data!$N$7:$N$206,MATCH(ROW()-7,Data!$X$7:$X$206,0))&"","") | AH31: =IFERROR(INDEX(Data!$L$7:$L$206,MATCH(ROW()-7,Data!$X$7:$X$206,0))&"","") | AI31: =IFERROR(INDEX(Data!$U$7:$U$206,MATCH(ROW()-7,Data!$X$7:$X$206,0))&"","")
